BEGIN:VCALENDAR
VERSION:2.0
PRODID:-//Dawson City Yukon - ECPv6.15.20//NONSGML v1.0//EN
CALSCALE:GREGORIAN
METHOD:PUBLISH
X-ORIGINAL-URL:https://dawsoncity.ca
X-WR-CALDESC:Events for Dawson City Yukon
REFRESH-INTERVAL;VALUE=DURATION:PT1H
X-Robots-Tag:noindex
X-PUBLISHED-TTL:PT1H
BEGIN:VTIMEZONE
TZID:UTC
BEGIN:STANDARD
TZOFFSETFROM:+0000
TZOFFSETTO:+0000
TZNAME:UTC
DTSTART:20210101T000000
END:STANDARD
END:VTIMEZONE
BEGIN:VTIMEZONE
TZID:America/Whitehorse
BEGIN:STANDARD
TZOFFSETFROM:-0700
TZOFFSETTO:-0700
TZNAME:MST
DTSTART:20220101T000000
END:STANDARD
END:VTIMEZONE
BEGIN:VEVENT
DTSTART;TZID=UTC:20251101T180000
DTEND;TZID=UTC:20251101T220000
DTSTAMP:20260422T020736
CREATED:20221020T175719Z
LAST-MODIFIED:20260316T121450Z
UID:10000171-1762020000-1762034400@dawsoncity.ca
SUMMARY:Dawson City Museum Auction
DESCRIPTION:Business\nEvent Details\n\nTime: July 20\, 2023 @ 10:00 am – July 20\, 2023 @ 10:00 pm\n\nCost: \n\nVenue: \n\nAddress: \n\nPhone: \n\nJoin us for the Dawson City Museum Annual Auction for an entertaining evening of live auctioning\, games\, food and prizes!  \nAs always\, the Dawson City Museum (LIVE!) auction will have a variety of awesome items up for grabs...so get your bidding paddles ready and take part in this fun-filled-high-spirited community event. \nAnd\, even if you don't win your coveted prize\, you will still leave super happy!  This is because all proceeds from the event go directly to the Dawson City Museum! \n\nViewing at 6pm - Auction at 7pm \n\n\nAll are invited to the Dawson City Museum's annual fun-filled fundraiser and social! This year\, we're returning to our roots in the OTAB or the 'Big Cabin'\, our second home since 1962. So don your long johns\, flannel\, and furs for an evening of lively bidding\, hearty home cooking\, games\, and prizes - all in true sourdough style. Remember there's a prize for best log cabin-themed costume! \n\nFor more information or if you'd like to support our auction by donating something\, contributing food\, or volunteering\, please reach us at 867-993-5291 or awenz@dawsonmuseum.ca
URL:https://dawsoncity.ca/event/dawson-city-museum-auction/
LOCATION:Dawson City Museum\, 595 Fifth Avenue\, Dawson City\, Yukon\, Y0B 1G0\, Canada
CATEGORIES:Arts and Culture,Business,Entertainment-Nightlife,Gold Rush History
ATTACH;FMTTYPE=image/png:https://dawsoncity.ca/wp-content/uploads/2022/10/Museum-Auction-Feature-Squre.png
GEO:64.0573864;-139.4351485
X-APPLE-STRUCTURED-LOCATION;VALUE=URI;X-ADDRESS=Dawson City Museum 595 Fifth Avenue Dawson City Yukon Y0B 1G0 Canada;X-APPLE-RADIUS=500;X-TITLE=595 Fifth Avenue:geo:-139.4351485,64.0573864
END:VEVENT
BEGIN:VEVENT
DTSTART;TZID=America/Whitehorse:20250516T100000
DTEND;TZID=America/Whitehorse:20250517T160000
DTSTAMP:20260422T020736
CREATED:20230309T211616Z
LAST-MODIFIED:20260316T121523Z
UID:10000208-1747389600-1747497600@dawsoncity.ca
SUMMARY:Dawson City International Gold Show
DESCRIPTION:Business\nEvent Details\n\nTime: July 20\, 2023 @ 10:00 am – July 20\, 2023 @ 10:00 pm\n\nCost: \n\nVenue: \n\nAddress: \n\nPhone: \nView Web SiteThe Gold Show originated in 1986 and has since then has become a tradition in Dawson. Every year when the snow starts to melt and the mud appears\, Gold Show fever is in the air. This show is not only a wonderful opportunity for people to do business and get ready for the summer\, it is also a time when old friends meet up after a long winter and new friendships are developed in a relaxed and social atmosphere. \nThe Gold Show is an excellent opportunity for businesses to bring their products and services to central Yukon.
URL:https://dawsoncity.ca/event/international-gold-show-2/
LOCATION:Art and Margaret Fry Arena\, Fourth Avenue and King Street\, Dawson City\, Yukon\, Y0B1G0\, Canada
CATEGORIES:Business,Family Friendly Event
ATTACH;FMTTYPE=image/jpeg:https://dawsoncity.ca/wp-content/uploads/2023/03/GoldShow_Feature-Square.jpg
ORGANIZER;CN="Dawson City Chamber of Commerce":MAILTO:office@dawsoncitychamberofcommer.ca
GEO:64.0626652;-139.4290458
X-APPLE-STRUCTURED-LOCATION;VALUE=URI;X-ADDRESS=Art and Margaret Fry Arena Fourth Avenue and King Street Dawson City Yukon Y0B1G0 Canada;X-APPLE-RADIUS=500;X-TITLE=Fourth Avenue and King Street:geo:-139.4290458,64.0626652
END:VEVENT
BEGIN:VEVENT
DTSTART;TZID=America/Whitehorse:20230720T100000
DTEND;TZID=America/Whitehorse:20230720T220000
DTSTAMP:20260422T020736
CREATED:20230719T185230Z
LAST-MODIFIED:20260316T121607Z
UID:10000245-1689847200-1689890400@dawsoncity.ca
SUMMARY:CFYT 75th Birthday!
DESCRIPTION:Business\nEvent Details\n\nTime: July 20\, 2023 @ 10:00 am – July 20\, 2023 @ 10:00 pm\n\nCost: \n\nVenue: \n\nAddress: \n\nPhone: \nWOW! 75 YEARS YOUNG!Come on down to the station Thursday 20 July and help CFYT 106.9FM celebrate 75 years of community radio.Food\, fun\, merchandise\, and special guests!
URL:https://dawsoncity.ca/event/cfyt-75th-birthday/
CATEGORIES:Arts and Culture,Business,Free Event
ATTACH;FMTTYPE=image/jpeg:https://dawsoncity.ca/wp-content/uploads/2023/07/CFYT_Birthday-Bash_Feature-Square.jpg
END:VEVENT
BEGIN:VEVENT
DTSTART;TZID=UTC:20220520T120000
DTEND;TZID=UTC:20220521T180000
DTSTAMP:20260422T020736
CREATED:20180309T103658Z
LAST-MODIFIED:20260316T121345Z
UID:10000031-1653048000-1653156000@dawsoncity.ca
SUMMARY:International Gold Show
DESCRIPTION:Page Not FoundSorry\, but you didn't strike gold this time...\nUnfortunately the page you requested could not be found\, try going to our Home Page\, or Contact Us if you think you were sent here in error! \n 
URL:https://dawsoncity.ca/event/international-gold-show/
LOCATION:Gerties parking lot\, Corner of Fourth and Queen\, Dawson City\, Canada
CATEGORIES:Business,Free Event
ATTACH;FMTTYPE=image/jpeg:https://dawsoncity.ca/wp-content/uploads/2014/04/gold-show.jpg
ORGANIZER;CN="Dawson City Chamber of Commerce":MAILTO:office@dawsoncitychamberofcommer.ca
GEO:64.0614231;-139.4310005
X-APPLE-STRUCTURED-LOCATION;VALUE=URI;X-ADDRESS=Gerties parking lot Corner of Fourth and Queen Dawson City Canada;X-APPLE-RADIUS=500;X-TITLE=Corner of Fourth and Queen:geo:-139.4310005,64.0614231
END:VEVENT
END:VCALENDAR