BEGIN:VCALENDAR
VERSION:2.0
PRODID:-//Dawson City Yukon - ECPv6.15.20//NONSGML v1.0//EN
CALSCALE:GREGORIAN
METHOD:PUBLISH
X-ORIGINAL-URL:https://dawsoncity.ca
X-WR-CALDESC:Events for Dawson City Yukon
REFRESH-INTERVAL;VALUE=DURATION:PT1H
X-Robots-Tag:noindex
X-PUBLISHED-TTL:PT1H
BEGIN:VTIMEZONE
TZID:UTC
BEGIN:STANDARD
TZOFFSETFROM:+0000
TZOFFSETTO:+0000
TZNAME:UTC
DTSTART:20250101T000000
END:STANDARD
END:VTIMEZONE
BEGIN:VEVENT
DTSTART;TZID=UTC:20260320T153000
DTEND;TZID=UTC:20260322T230000
DTSTAMP:20260421T135115
CREATED:20221020T084347Z
LAST-MODIFIED:20260319T192426Z
UID:10000129-1774020600-1774220400@dawsoncity.ca
SUMMARY:Thaw di Gras Spring Carnival
DESCRIPTION:Free Event\n\n\n\n\n\n\nEvent Details\n\nTime: April 10 @ 6:00 pm – April 10 @ 8:00 pm\n\nCost: \n\nVenue: ODD Gallery\n\nAddress: 902 Second Avenue\, Dawson City\, Yukon\, Canada\n\nPhone: \n\n\n\n\n\n\n\nCelebrate the end of winter with Dawson City in the Thaw Di Gras Spring Carnival! \nFor years\, Dawson City has rung in Spring with a Carnival unlike any other. A true community event; we come alive and host a variety of games\, from the serious\, to ridiculous\, to simply outrageous. Thaw di Gras Spring Carnival truly has something for everyone! Whether you're looking to toss an axe\, race a dog team\, or find a loonie in a haystack\, we've got an event for you. Best of all\, almost every event is FREE! \nSo\, what are you waiting for?! Come experience a true carnival atmosphere\, with over 25 events happening in a square kilometer\, you're sure to have an amazing time! \nWeekend events often include: \n\nDCMF Lip Sync Competition- Take the big stage at Diamond Tooth Gerties and show off your lip syncing skills!  Costumes and hillarity are a given!\nRoad Hockey Tournament- Teams of four battle it out on the frozen gravel streets of Dawson.\nSunnydale Classic Dog Sled and Skijor Races- Test yourself and your pooch(es) in a race around West Dawson.\nAdult Tricycle Races- Race around a bar on an adult sized tricycle and see if you've still got your "big wheels" skills.\nThe Hat Toss- Think you can throw a hat onto a mounted cow's head? Let's see it!\nChili Cook-Off-  Battle the elements to chop\, cook and serve chili to the masses. Best chili is voted by crowd popularity and judges.\nSnow Sculptures- Show off your artistic skills in this 48 hour showdown!\nLog Toss- Chuck a log the furthest to win.\nGreat KVA Egg Toss- Teams of two throw an egg back and forth. Whoever throws and catches it from the farthest distance\, without breaking it\, wins!\nFireworks- Lights over the Yukon River\, Sunday night.\nKids and Youth Activities- A variety of games geared to children and youth\, on the dyke.\nLive Music- Multiple venues\, hosting nightly entertainment.\nAnd much more!!!\n\n*all events subject to Change \n\n\n\n2026 Schedule\n\n\n\n\nGet the Thaw Di Gras Spring Carnival phone app!
URL:https://dawsoncity.ca/event/thaw-di-gras-spring-carnival/
LOCATION:All throughout Dawson\, Dawson City\, Canada
CATEGORIES:Arts and Culture,Entertainment-Nightlife,Free Event,Gerties,Recreation
ATTACH;FMTTYPE=image/png:https://dawsoncity.ca/wp-content/uploads/2022/10/Thaw-Di-Gras-Feature-Squre.png
ORGANIZER;CN="Klondike Visitors Association":MAILTO:kva@dawson.net
GEO:64.0600696;-139.4320347
END:VEVENT
END:VCALENDAR