BEGIN:VCALENDAR
VERSION:2.0
PRODID:-//Dawson City Yukon - ECPv6.15.20//NONSGML v1.0//EN
CALSCALE:GREGORIAN
METHOD:PUBLISH
X-ORIGINAL-URL:https://dawsoncity.ca
X-WR-CALDESC:Events for Dawson City Yukon
REFRESH-INTERVAL;VALUE=DURATION:PT1H
X-Robots-Tag:noindex
X-PUBLISHED-TTL:PT1H
BEGIN:VTIMEZONE
TZID:UTC
BEGIN:STANDARD
TZOFFSETFROM:+0000
TZOFFSETTO:+0000
TZNAME:UTC
DTSTART:20190101T000000
END:STANDARD
END:VTIMEZONE
BEGIN:VEVENT
DTSTART;TZID=UTC:20200802T090000
DTEND;TZID=UTC:20200807T190000
DTSTAMP:20260425T200054
CREATED:20200613T002507Z
LAST-MODIFIED:20260316T121359Z
UID:10000046-1596358800-1596826800@dawsoncity.ca
SUMMARY:World Gold Panning Championships
DESCRIPTION:Gold Rush History\nEvent Details\n\nTime: May 20\, 2023 @ 12:00 pm – May 20\, 2023 @ 4:00 pm\n\nCost: \n\nVenue: Dawson City\n\nAddress: \n\nPhone: \n\nThe 2021 World Gold Panning Championships are coming to Dawson City\, Yukon!  \nGold panners from all over the world will descend on Dawson City for a week of competition\, entertainment\, and fun! \nMake sure you book your rooms early! \n\n  \nMore info coming soon. 
URL:https://dawsoncity.ca/event/world-gold-panning-championships/
LOCATION:Minto Park\, Fifth Avenue\, Dawson City\, Y0B 1G0\, Canada
CATEGORIES:Free Event,Gold Rush History,Recreation
ATTACH;FMTTYPE=image/jpeg:https://dawsoncity.ca/wp-content/uploads/2020/06/World-Gold-Panning-Square.jpg
ORGANIZER;CN="2021 World Gold Panning Committee":MAILTO:gold2021@dawson.net
GEO:64.059727;-139.43148
X-APPLE-STRUCTURED-LOCATION;VALUE=URI;X-ADDRESS=Minto Park Fifth Avenue Dawson City Y0B 1G0 Canada;X-APPLE-RADIUS=500;X-TITLE=Fifth Avenue:geo:-139.43148,64.059727
END:VEVENT
END:VCALENDAR