BEGIN:VCALENDAR
VERSION:2.0
PRODID:-//Dawson City Yukon - ECPv6.15.20//NONSGML v1.0//EN
CALSCALE:GREGORIAN
METHOD:PUBLISH
X-ORIGINAL-URL:https://dawsoncity.ca
X-WR-CALDESC:Events for Dawson City Yukon
REFRESH-INTERVAL;VALUE=DURATION:PT1H
X-Robots-Tag:noindex
X-PUBLISHED-TTL:PT1H
BEGIN:VTIMEZONE
TZID:America/Whitehorse
BEGIN:STANDARD
TZOFFSETFROM:-0700
TZOFFSETTO:-0700
TZNAME:MST
DTSTART:20220101T000000
END:STANDARD
END:VTIMEZONE
BEGIN:VEVENT
DTSTART;TZID=America/Whitehorse:20230520T120000
DTEND;TZID=America/Whitehorse:20230520T160000
DTSTAMP:20260423T123033
CREATED:20230412T180254Z
LAST-MODIFIED:20260316T121544Z
UID:10000221-1684584000-1684598400@dawsoncity.ca
SUMMARY:Park's Canada Doors Open Dawson
DESCRIPTION:Gold Rush History\nEvent Details\n\nTime: May 20\, 2023 @ 12:00 pm – May 20\, 2023 @ 4:00 pm\n\nCost: \n\nVenue: Dawson City\n\nAddress: \n\nPhone: \nSpring awakens Dawson City and what better way to celebrate the turn of the season than with Park's Canada Doors Open Dawson?  Wander through the heritage buildings of Dawson and explore the parts of town that are rarely seen by those outside of Parks Staff. 
URL:https://dawsoncity.ca/event/parks-canada-doors-open-dawson/
LOCATION:Dawson City
CATEGORIES:Arts and Culture,Gold Rush History
ATTACH;FMTTYPE=image/jpeg:https://dawsoncity.ca/wp-content/uploads/2023/04/Parks-Canada_Doors-Open-Dawson-Feature-Square.jpg
ORGANIZER;CN="Parks Canada":MAILTO:Dawson.info@pc.gc.ca 
END:VEVENT
END:VCALENDAR