BEGIN:VCALENDAR
VERSION:2.0
PRODID:-//Dawson City Yukon - ECPv6.15.20//NONSGML v1.0//EN
CALSCALE:GREGORIAN
METHOD:PUBLISH
X-ORIGINAL-URL:https://dawsoncity.ca
X-WR-CALDESC:Events for Dawson City Yukon
REFRESH-INTERVAL;VALUE=DURATION:PT1H
X-Robots-Tag:noindex
X-PUBLISHED-TTL:PT1H
BEGIN:VTIMEZONE
TZID:UTC
BEGIN:STANDARD
TZOFFSETFROM:+0000
TZOFFSETTO:+0000
TZNAME:UTC
DTSTART:20230101T000000
END:STANDARD
END:VTIMEZONE
BEGIN:VEVENT
DTSTART;TZID=UTC:20240601T190000
DTEND;TZID=UTC:20240601T230000
DTSTAMP:20260422T151700
CREATED:20180309T104610Z
LAST-MODIFIED:20260316T121346Z
UID:10000034-1717268400-1717282800@dawsoncity.ca
SUMMARY:Commissioner's Ball
DESCRIPTION:Gold Rush History\nEvent Details\n\nTime: May 20\, 2023 @ 12:00 pm – May 20\, 2023 @ 4:00 pm\n\nCost: \n\nVenue: Dawson City\n\nAddress: \n\nPhone: \nView Web SiteAn evening of food\, music\, and dancing at the historic Palace Grand Theatre! \n  \nFor more information contact CommissionersOffice@Yukon.ca
URL:https://dawsoncity.ca/event/commissioners-klondike-ball/
LOCATION:Palace Grand Theatre\, Third and King St\, Dawson City\, Canada
CATEGORIES:Arts and Culture,Entertainment-Nightlife,Gold Rush History
ATTACH;FMTTYPE=image/jpeg:https://dawsoncity.ca/wp-content/uploads/2020/07/daw-205-palace-grand-exterioir-credit-YCB-square.jpg
ORGANIZER;CN="Office of the Commissioner of Yukon":MAILTO:commissioner@gov.yk.ca
GEO:64.0630969;-139.4304717
X-APPLE-STRUCTURED-LOCATION;VALUE=URI;X-ADDRESS=Palace Grand Theatre Third and King St Dawson City Canada;X-APPLE-RADIUS=500;X-TITLE=Third and King St:geo:-139.4304717,64.0630969
END:VEVENT
END:VCALENDAR