BEGIN:VCALENDAR
VERSION:2.0
PRODID:-//Dawson City Yukon - ECPv6.15.20//NONSGML v1.0//EN
CALSCALE:GREGORIAN
METHOD:PUBLISH
X-ORIGINAL-URL:https://dawsoncity.ca
X-WR-CALDESC:Events for Dawson City Yukon
REFRESH-INTERVAL;VALUE=DURATION:PT1H
X-Robots-Tag:noindex
X-PUBLISHED-TTL:PT1H
BEGIN:VTIMEZONE
TZID:America/Whitehorse
BEGIN:STANDARD
TZOFFSETFROM:-0700
TZOFFSETTO:-0700
TZNAME:MST
DTSTART:20220101T000000
END:STANDARD
END:VTIMEZONE
BEGIN:VEVENT
DTSTART;TZID=America/Whitehorse:20230715T100000
DTEND;TZID=America/Whitehorse:20230715T160000
DTSTAMP:20260423T215553
CREATED:20230331T233041Z
LAST-MODIFIED:20260316T121532Z
UID:10000215-1689415200-1689436800@dawsoncity.ca
SUMMARY:Tombstone Territorial Parks Hike Day
DESCRIPTION:Recreation\nEvent Details\n\nTime: January 31 @ 2:00 pm – January 31 @ 5:00 pm\n\nCost: \n\nVenue: Crocus Bluff Disc Golf Course\n\nAddress: Mary McLeod rd\, Dawson City\, Yukon\n\nPhone: \nEnjoy a wonderful day hike in  Tombstone Territorial park. Bring your instruments as there will be a barbecue and coffeehouse and open mic where everyone is welcome to participate. \nFor more information (867) 993 7714 or email TombstoneCenter@gmail.com
URL:https://dawsoncity.ca/event/tombstone-territorial-parks-hike-day/
LOCATION:Tombstone Territorial Park Interpretive Centre\, km 71.5\, Dempster Highway\, Yukon Territory\, Y0B1G0\, Canada
CATEGORIES:Recreation,Wilderness
ATTACH;FMTTYPE=image/jpeg:https://dawsoncity.ca/wp-content/uploads/2023/03/Tombstone-Territorial-Park-Hike-Day_Feature-Square.jpg
ORGANIZER;CN="Parks Canada":MAILTO:Dawson.info@pc.gc.ca 
END:VEVENT
END:VCALENDAR