BEGIN:VCALENDAR
VERSION:2.0
PRODID:-//Dawson City Yukon - ECPv6.15.20//NONSGML v1.0//EN
CALSCALE:GREGORIAN
METHOD:PUBLISH
X-WR-CALNAME:Dawson City Yukon
X-ORIGINAL-URL:https://dawsoncity.ca
X-WR-CALDESC:Events for Dawson City Yukon
REFRESH-INTERVAL;VALUE=DURATION:PT1H
X-Robots-Tag:noindex
X-PUBLISHED-TTL:PT1H
BEGIN:VTIMEZONE
TZID:UTC
BEGIN:STANDARD
TZOFFSETFROM:+0000
TZOFFSETTO:+0000
TZNAME:UTC
DTSTART:20250101T000000
END:STANDARD
END:VTIMEZONE
BEGIN:VEVENT
DTSTART;TZID=UTC:20260904T160000
DTEND;TZID=UTC:20260906T170000
DTSTAMP:20260421T194052
CREATED:20221026T054224Z
LAST-MODIFIED:20260316T121458Z
UID:10000090-1788537600-1788714000@dawsoncity.ca
SUMMARY:Labour Day Slo-Pitch Tournament
DESCRIPTION:Recreation\nEvent Details\n\nTime: January 31 @ 2:00 pm – January 31 @ 5:00 pm\n\nCost: \n\nVenue: Crocus Bluff Disc Golf Course\n\nAddress: Mary McLeod rd\, Dawson City\, Yukon\n\nPhone: \n\nIt's time to play ball...Dawson City style! This annual slo-pitch tournament attracts quality teams from all over the North. Stop by Minto Park to watch some great slo-pitch and cheer for your favourite team. Round-robin Friday & Saturday\, playoffs on Sunday. \nRegistration now open - email dawn_kisoun@hotmail.com or call 1-867-993-3460  Please note\, no refunds are available. \nClick here to review 2024 tournament rules. (Rules subject to change without notice\, 2025 rules coming soon)
URL:https://dawsoncity.ca/event/labour-day-slo-pitch/
LOCATION:Minto Park\, Fifth Avenue\, Dawson City\, Y0B 1G0\, Canada
CATEGORIES:Recreation
ATTACH;FMTTYPE=image/jpeg:https://dawsoncity.ca/wp-content/uploads/2022/10/Events_SloPitch_Feature-Square.jpg
ORGANIZER;CN="Dawson City Slo-Pitch Association":MAILTO:dawn_kisoun@hotmail.com
GEO:64.059727;-139.43148
X-APPLE-STRUCTURED-LOCATION;VALUE=URI;X-ADDRESS=Minto Park Fifth Avenue Dawson City Y0B 1G0 Canada;X-APPLE-RADIUS=500;X-TITLE=Fifth Avenue:geo:-139.43148,64.059727
END:VEVENT
END:VCALENDAR