BEGIN:VCALENDAR
VERSION:2.0
PRODID:-//Dawson City Yukon - ECPv6.15.20//NONSGML v1.0//EN
CALSCALE:GREGORIAN
METHOD:PUBLISH
X-WR-CALNAME:Dawson City Yukon
X-ORIGINAL-URL:https://dawsoncity.ca
X-WR-CALDESC:Events for Dawson City Yukon
REFRESH-INTERVAL;VALUE=DURATION:PT1H
X-Robots-Tag:noindex
X-PUBLISHED-TTL:PT1H
BEGIN:VTIMEZONE
TZID:America/Whitehorse
BEGIN:STANDARD
TZOFFSETFROM:-0700
TZOFFSETTO:-0700
TZNAME:MST
DTSTART:20220101T000000
END:STANDARD
END:VTIMEZONE
BEGIN:VTIMEZONE
TZID:America/Los_Angeles
BEGIN:DAYLIGHT
TZOFFSETFROM:-0800
TZOFFSETTO:-0700
TZNAME:PDT
DTSTART:20240310T100000
END:DAYLIGHT
BEGIN:STANDARD
TZOFFSETFROM:-0700
TZOFFSETTO:-0800
TZNAME:PST
DTSTART:20241103T090000
END:STANDARD
BEGIN:DAYLIGHT
TZOFFSETFROM:-0800
TZOFFSETTO:-0700
TZNAME:PDT
DTSTART:20250309T100000
END:DAYLIGHT
BEGIN:STANDARD
TZOFFSETFROM:-0700
TZOFFSETTO:-0800
TZNAME:PST
DTSTART:20251102T090000
END:STANDARD
BEGIN:DAYLIGHT
TZOFFSETFROM:-0800
TZOFFSETTO:-0700
TZNAME:PDT
DTSTART:20260308T100000
END:DAYLIGHT
BEGIN:STANDARD
TZOFFSETFROM:-0700
TZOFFSETTO:-0800
TZNAME:PST
DTSTART:20261101T090000
END:STANDARD
END:VTIMEZONE
BEGIN:VTIMEZONE
TZID:UTC
BEGIN:STANDARD
TZOFFSETFROM:+0000
TZOFFSETTO:+0000
TZNAME:UTC
DTSTART:20190101T000000
END:STANDARD
END:VTIMEZONE
BEGIN:VEVENT
DTSTART;VALUE=DATE:20260305
DTEND;VALUE=DATE:20260309
DTSTAMP:20260422T025235
CREATED:20221206T185928Z
LAST-MODIFIED:20260316T121511Z
UID:10000176-1772679600-1772938799@dawsoncity.ca
SUMMARY:Percy DeWolfe Memorial Mail Run
DESCRIPTION:Percy DeWolfe Memorial Mail Race \nEvent Details\n\nTime: December 5\, 2025 @ 6:00 pm – December 5\, 2025 @ 8:00 pm\n\nCost: \n\nVenue: Moose Mountain\n\nAddress: Dome Road\, Dawson City\, YT\, Y0B1G0\, Canada\n\nPhone: \nView Web SitePercy DeWolfe arrived in the Yukon in 1989\, only to find all of the good claims for gold were already taken. After a decade of fishing along the Yukon River\, the hardy Dawson character began to deliver the mail between Eagle\, Alaskas and Dawson City\, Yukon in 1910 - 1949. \nPercy carried mail by dog team\, horse\, and by boat year round. Battling ice flows during freeze up and break up\, and the extreme winter weather in temperature of -50 below\, losing dogs and horse teams to the unforgiving elements.  Percy served his community courageously and in 1977 the first Percy DeWolfe Memorial Mail Race was held to commemorate his legacy and service.  \nThe Percy DeWolfe Memorial Mail Race reserves the first official start time of 10:00 in honour of Percy DeWolfe\, and the first race musher to “follow Percy” at 10:02 carries a bag of mail from Dawson to Eagle. You can be apart of honouring our history by purchasing an official Percy DeWolfe letter\, which will be sent in this first bag of mail.
URL:https://dawsoncity.ca/event/percy-dewolfe-memorial-mail-run/
LOCATION:YT
CATEGORIES:Arts and Culture,Wilderness
ATTACH;FMTTYPE=image/jpeg:https://dawsoncity.ca/wp-content/uploads/2020/10/percy-de-wolfe-feature.jpg
END:VEVENT
BEGIN:VEVENT
DTSTART;TZID=America/Los_Angeles:20251205T180000
DTEND;TZID=America/Los_Angeles:20251205T200000
DTSTAMP:20260422T025235
CREATED:20251201T215140Z
LAST-MODIFIED:20260316T121734Z
UID:10000354-1764957600-1764964800@dawsoncity.ca
SUMMARY:Full Moon Skiing
DESCRIPTION:Wilderness\nEvent Details\n\nTime: December 5\, 2025 @ 6:00 pm – December 5\, 2025 @ 8:00 pm\n\nCost: \n\nVenue: Moose Mountain\n\nAddress: Dome Road\, Dawson City\, YT\, Y0B1G0\, Canada\n\nPhone: \nCome celebrate winter magic with us on the Moose Mountain Cross-Country Ski Trails! All ages are welcome to go at their own pace on these beautifully moonlit trails... The toasty warm-up cabin awaits! Bring your own snacks and drinks. Sharing and socializing in encouraged!\n \nFor more information\, or to volunteer\, contact:\nadmin@katts.ca\n \n \n 
URL:https://dawsoncity.ca/event/full-moon-skiing/
LOCATION:Moose Mountain\, Dome Road\, Dawson City\, YT\, Y0B1G0\, Canada
CATEGORIES:Family Friendly Event,Free Event,Recreation,Wilderness
ATTACH;FMTTYPE=image/png:https://dawsoncity.ca/wp-content/uploads/2025/12/Full-Moon-Ski-2.png
ORGANIZER;CN="KATTS":MAILTO:admin@katts.ca
GEO:64.054958;-139.4051434
X-APPLE-STRUCTURED-LOCATION;VALUE=URI;X-ADDRESS=Moose Mountain Dome Road Dawson City YT Y0B1G0 Canada;X-APPLE-RADIUS=500;X-TITLE=Dome Road:geo:-139.4051434,64.054958
END:VEVENT
BEGIN:VEVENT
DTSTART;TZID=UTC:20250627T160000
DTEND;TZID=UTC:20250628T180000
DTSTAMP:20260422T025235
CREATED:20221020T101127Z
LAST-MODIFIED:20260316T121443Z
UID:10000130-1751040000-1751133600@dawsoncity.ca
SUMMARY:Yukon River Quest- Dawson Finish
DESCRIPTION:Wilderness\nEvent Details\n\nTime: December 5\, 2025 @ 6:00 pm – December 5\, 2025 @ 8:00 pm\n\nCost: \n\nVenue: Moose Mountain\n\nAddress: Dome Road\, Dawson City\, YT\, Y0B1G0\, Canada\n\nPhone: \nVisit Website\n\nWitness the Epic Finish of the Yukon River Quest! \n\n\nCome down to the river and experience the excitement as paddling athletes from around the globe complete their grueling 715 km (444 mile) journey from Whitehorse to Dawson City! \n\n\nFrom mighty voyageur canoes to solo kayaks and stand-up paddleboards\, these competitors have pushed through days of sun\, fatigue\, and fast water—with no more than 10 hours of rest in Carmacks. \n\n\nNow\, they race toward the midnight sun and the glory of the finish line. Come cheer them on\, feel the energy\, and celebrate these incredible (and maybe a little wild!) athletes as they wrap up one of the world’s longest and toughest paddling races. \n\n\nDon't miss this thrilling finale!
URL:https://dawsoncity.ca/event/yukon-river-quest/
LOCATION:Riverside Park (along Front St.)\, Dawson City\, Yukon\, Y0B1G0\, Canada
CATEGORIES:Recreation,Wilderness
ATTACH;FMTTYPE=image/jpeg:https://dawsoncity.ca/wp-content/uploads/2022/10/Credit-John-Howland_Yukon-River-Quest-Square.jpg
END:VEVENT
BEGIN:VEVENT
DTSTART;TZID=UTC:20240203T050000
DTEND;TZID=UTC:20240208T230000
DTSTAMP:20260422T025235
CREATED:20221019T160410Z
LAST-MODIFIED:20260316T121433Z
UID:10000160-1706936400-1707433200@dawsoncity.ca
SUMMARY:Yukon Quest Sled Dog Race
DESCRIPTION:Wilderness\nEvent Details\n\nTime: December 5\, 2025 @ 6:00 pm – December 5\, 2025 @ 8:00 pm\n\nCost: \n\nVenue: Moose Mountain\n\nAddress: Dome Road\, Dawson City\, YT\, Y0B1G0\, Canada\n\nPhone: \nView Web Site\nThe Yukon Quest Trail follows historical Gold Rush and mail delivery dog sled routes from the turn of the 20th Century. Once the transportation “highways” of the Northern frontier\, the trail now comes alive each February with the frosty breath and haunting howls of hundreds of sled dogs. Up to 50 dog teams consisting of one human 'musher' and 14 canine athletes tread across some of the last pristine wilderness remaining in North America. \nDawson City marks the finish line for the teams racing the Q450\, the longest distance in the Yukon Quest currently being run. There will be a concession \, warm-up area\, and greeting area that allows you to get close to the athletes and enjoy the action! So bundle warming and bring the whole family out to cheer on these incredible teams! \nFor more information visit https://www.yukonquest.com/
URL:https://dawsoncity.ca/event/yukon-quest-q450/
LOCATION:Visitors Information Centre (VIC)\, 1102 Front Street\, Dawson City\, YT\, Y0B 1G0\, Canada
CATEGORIES:Arts and Culture,Free Event,Gold Rush History,Recreation,Wilderness
ATTACH;FMTTYPE=image/png:https://dawsoncity.ca/wp-content/uploads/2018/03/Yukon-Quest-Web-Event-Feature-Square.png
GEO:64.0620983;-139.436064
X-APPLE-STRUCTURED-LOCATION;VALUE=URI;X-ADDRESS=Visitors Information Centre (VIC) 1102 Front Street Dawson City YT Y0B 1G0 Canada;X-APPLE-RADIUS=500;X-TITLE=1102 Front Street:geo:-139.436064,64.0620983
END:VEVENT
BEGIN:VEVENT
DTSTART;TZID=America/Whitehorse:20230825T170000
DTEND;TZID=America/Whitehorse:20230827T150000
DTSTAMP:20260422T025235
CREATED:20230401T000049Z
LAST-MODIFIED:20260316T121534Z
UID:10000216-1692982800-1693148400@dawsoncity.ca
SUMMARY:Tombstone Territorial Park Geology Weekend
DESCRIPTION:Wilderness\nEvent Details\n\nTime: December 5\, 2025 @ 6:00 pm – December 5\, 2025 @ 8:00 pm\n\nCost: \n\nVenue: Moose Mountain\n\nAddress: Dome Road\, Dawson City\, YT\, Y0B1G0\, Canada\n\nPhone: \nDive deep into the elements of our earth with hands-on geology activities with the Tombstone interpretation center and staff. Hike through the terrain and trails of Tombstone and learn more about what is happening right under our feet. \nFor more information call (867) 993 7714 or email TombstoneCenter@gmail.com \nPhoto Credit Mike Pike
URL:https://dawsoncity.ca/event/tombstone-territorial-park-geology-weekend/
LOCATION:Tombstone Territorial Park Interpretive Centre\, km 71.5\, Dempster Highway\, Yukon Territory\, Y0B1G0\, Canada
CATEGORIES:Recreation,Wilderness
ATTACH;FMTTYPE=image/jpeg:https://dawsoncity.ca/wp-content/uploads/2023/03/Tombstone-Geology-Day_Feature-Sq.jpg
ORGANIZER;CN="Parks Canada":MAILTO:Dawson.info@pc.gc.ca 
END:VEVENT
BEGIN:VEVENT
DTSTART;TZID=America/Whitehorse:20230715T100000
DTEND;TZID=America/Whitehorse:20230715T160000
DTSTAMP:20260422T025235
CREATED:20230331T233041Z
LAST-MODIFIED:20260316T121532Z
UID:10000215-1689415200-1689436800@dawsoncity.ca
SUMMARY:Tombstone Territorial Parks Hike Day
DESCRIPTION:Wilderness\nEvent Details\n\nTime: December 5\, 2025 @ 6:00 pm – December 5\, 2025 @ 8:00 pm\n\nCost: \n\nVenue: Moose Mountain\n\nAddress: Dome Road\, Dawson City\, YT\, Y0B1G0\, Canada\n\nPhone: \nEnjoy a wonderful day hike in  Tombstone Territorial park. Bring your instruments as there will be a barbecue and coffeehouse and open mic where everyone is welcome to participate. \nFor more information (867) 993 7714 or email TombstoneCenter@gmail.com
URL:https://dawsoncity.ca/event/tombstone-territorial-parks-hike-day/
LOCATION:Tombstone Territorial Park Interpretive Centre\, km 71.5\, Dempster Highway\, Yukon Territory\, Y0B1G0\, Canada
CATEGORIES:Recreation,Wilderness
ATTACH;FMTTYPE=image/jpeg:https://dawsoncity.ca/wp-content/uploads/2023/03/Tombstone-Territorial-Park-Hike-Day_Feature-Square.jpg
ORGANIZER;CN="Parks Canada":MAILTO:Dawson.info@pc.gc.ca 
END:VEVENT
BEGIN:VEVENT
DTSTART;TZID=America/Whitehorse:20230623T080000
DTEND;TZID=America/Whitehorse:20230625T170000
DTSTAMP:20260422T025235
CREATED:20230331T225518Z
LAST-MODIFIED:20260316T121531Z
UID:10000214-1687507200-1687712400@dawsoncity.ca
SUMMARY:Tombstone Botany Weekend
DESCRIPTION:Wilderness\nEvent Details\n\nTime: December 5\, 2025 @ 6:00 pm – December 5\, 2025 @ 8:00 pm\n\nCost: \n\nVenue: Moose Mountain\n\nAddress: Dome Road\, Dawson City\, YT\, Y0B1G0\, Canada\n\nPhone: \nSpend a weekend at Tombstone Territorial Park learning about the abundant flora that grows here. Hike with expert and local naturalists that are familiar with the wild flora and fauna found in Tombstone and much more.  \nTo learn more call (867) 993 7714 or email TombstoneCenter@gmail.com
URL:https://dawsoncity.ca/event/tombstone-botany-weekend/
LOCATION:Tombstone Territorial Park Interpretive Centre\, km 71.5\, Dempster Highway\, Yukon Territory\, Y0B1G0\, Canada
CATEGORIES:Arts and Culture,Recreation,Wilderness
ATTACH;FMTTYPE=image/jpeg:https://dawsoncity.ca/wp-content/uploads/2023/03/Tombstone-Botany-Weekend_Feature-Square.jpg
ORGANIZER;CN="Parks Canada":MAILTO:Dawson.info@pc.gc.ca 
END:VEVENT
BEGIN:VEVENT
DTSTART;TZID=America/Whitehorse:20230621T120000
DTEND;TZID=America/Whitehorse:20230621T170000
DTSTAMP:20260422T025235
CREATED:20230331T221219Z
LAST-MODIFIED:20260316T121529Z
UID:10000213-1687348800-1687366800@dawsoncity.ca
SUMMARY:Tombstone Solstice Hike
DESCRIPTION:Wilderness\nEvent Details\n\nTime: December 5\, 2025 @ 6:00 pm – December 5\, 2025 @ 8:00 pm\n\nCost: \n\nVenue: Moose Mountain\n\nAddress: Dome Road\, Dawson City\, YT\, Y0B1G0\, Canada\n\nPhone: \nCelebrate the longest day of the year under the Midnight Sun with a hike in Tombstone Territorial Park and watch in wonder as our sun circles the sky never dipping below the horizon.  \nFor more information call (867) 993-7714 or email TombstoneCenter@gmail.com
URL:https://dawsoncity.ca/event/tombstone-solstice-hike/
LOCATION:Tombstone Territorial Park Interpretive Centre\, km 71.5\, Dempster Highway\, Yukon Territory\, Y0B1G0\, Canada
CATEGORIES:Arts and Culture,Recreation,Wilderness
ATTACH;FMTTYPE=image/jpeg:https://dawsoncity.ca/wp-content/uploads/2023/03/Tombstone-Solstice-Hike_Feature-Square.jpg
ORGANIZER;CN="Parks Canada":MAILTO:Dawson.info@pc.gc.ca 
END:VEVENT
BEGIN:VEVENT
DTSTART;TZID=UTC:20230615T120000
DTEND;TZID=UTC:20230616T220000
DTSTAMP:20260422T025235
CREATED:20180309T105938Z
LAST-MODIFIED:20260316T121347Z
UID:10000037-1686830400-1686952800@dawsoncity.ca
SUMMARY:D2D Motorcycle Ride (Not a Rally!)
DESCRIPTION:Wilderness\nEvent Details\n\nTime: December 5\, 2025 @ 6:00 pm – December 5\, 2025 @ 8:00 pm\n\nCost: \n\nVenue: Moose Mountain\n\nAddress: Dome Road\, Dawson City\, YT\, Y0B1G0\, Canada\n\nPhone: \nView Web Site\nThe Dust 2 Dawson Motorcycle Ride (Not a Rally!) is an annual event which invites motorcycle enthusiasts from across the world to get together and celebrate in Dawson City. \nSince 1992\, old friends and new have been getting together over a common bond: motorcycles. The D2D weekend consists of motorcycle games on unpaved streets of Dawson\, a poker run in the historic goldfields\, and a banquet full of delicious food\, crisp Canadian beer\, and a whole lot of fun! \nBecause Dawson City is located at the junction of three iconic highways: the Top of the World/Taylor Highways\, the North Klondike Highway and the Dempster Highway\, you'll have plenty of options to do some epic riding. \n 
URL:https://dawsoncity.ca/event/d2d-motorcycle-ride-not-a-rally/
LOCATION:Triple J Hotel\, Fifth Avenue and Queen Street\, Dawson City\, Yukon\, Y0B1G0\, Canada
CATEGORIES:Free Event,Recreation,Wilderness
ATTACH;FMTTYPE=image/jpeg:https://dawsoncity.ca/wp-content/uploads/2018/03/Dust-To-Dawson______Feature-Square.jpg
ORGANIZER;CN="Dick Van Nostrand":MAILTO:thedick@me.com
GEO:64.060971;-139.429504
X-APPLE-STRUCTURED-LOCATION;VALUE=URI;X-ADDRESS=Triple J Hotel Fifth Avenue and Queen Street Dawson City Yukon Y0B1G0 Canada;X-APPLE-RADIUS=500;X-TITLE=Fifth Avenue and Queen Street:geo:-139.429504,64.060971
END:VEVENT
BEGIN:VEVENT
DTSTART;TZID=America/Whitehorse:20230602T080000
DTEND;TZID=America/Whitehorse:20230604T170000
DTSTAMP:20260422T025235
CREATED:20230331T212529Z
LAST-MODIFIED:20260316T121528Z
UID:10000212-1685692800-1685898000@dawsoncity.ca
SUMMARY:Weekend on the Wing
DESCRIPTION:Wilderness\nEvent Details\n\nTime: December 5\, 2025 @ 6:00 pm – December 5\, 2025 @ 8:00 pm\n\nCost: \n\nVenue: Moose Mountain\n\nAddress: Dome Road\, Dawson City\, YT\, Y0B1G0\, Canada\n\nPhone: \nWelcome\, Yukon's incredible feathered friends at Weekend on the Wing.  Explore with expert birders and local naturalists to uncover a diverse variety of bird species migrating from the south\, as they begin to nest and rear their young.  Weekend on the Wing welcomes back the beautiful bird song and the start of the summer season in Tombstone Territorial Park.  \nFor more information call (867) 993 7714 or email TombstoneCentre@gmail.com 
URL:https://dawsoncity.ca/event/weekend-on-the-wing/
LOCATION:Tombstone Territorial Park Interpretive Centre\, km 71.5\, Dempster Highway\, Yukon Territory\, Y0B1G0\, Canada
CATEGORIES:Arts and Culture,Recreation,Wilderness
ATTACH;FMTTYPE=image/jpeg:https://dawsoncity.ca/wp-content/uploads/2023/03/Tombstone-Park-Weekend-on-the-Wing_Feature-Square.jpg
ORGANIZER;CN="Parks Canada":MAILTO:Dawson.info@pc.gc.ca 
END:VEVENT
BEGIN:VEVENT
DTSTART;TZID=UTC:20200305T130000
DTEND;TZID=UTC:20200308T090000
DTSTAMP:20260422T025235
CREATED:20180309T102048Z
LAST-MODIFIED:20260316T121342Z
UID:10000029-1583413200-1583658000@dawsoncity.ca
SUMMARY:Trek Over the Top
DESCRIPTION:Wilderness\nEvent Details\n\nTime: December 5\, 2025 @ 6:00 pm – December 5\, 2025 @ 8:00 pm\n\nCost: \n\nVenue: Moose Mountain\n\nAddress: Dome Road\, Dawson City\, YT\, Y0B1G0\, Canada\n\nPhone: \nView Web Site\nTrek over the Top is an international snowmobile run from Tok\, Alaska to Dawson City\, Yukon. Riders travel over 200 miles of groomed trail through pristine wilderness to arrive in Dawson City for one heck of a weekend! \nOnce in Dawson\, Trekkers have no shortage of entertainment: \n\nPlay at Diamond Tooth Gerties Gambling Hall\, Canada's oldest casino: Texas Hold'em\, Black Jack\, Roulette\, and Slots\nJoin a local poker run in the Klondike\nBecome a member of Dawson City's infamous Sour Toe Cocktail Club\nPARTY IN THE VEGAS OF THE NORTH! Have a cocktail at a former brothel or an old time saloon. 5 bars all within 3 blocks!\n\nIncluded in the Trek package: \n\nSteak dinner banquet\nNightly entertainment\nGasoline fill-up at the halfway point in Chicken\, AK\n200 Miles of groomed Trail\n2026 Trek Over the Top t-shirt\nPoker hand for the run with a chance to win CASH!\nThe most fun you'll have all year!\n\nJoin in for the fun! \nTo find out more or get answers to any questions you may have call the KVA at 867-993-5575 (or toll free at: 1-877-465-3006) or email us: kva@dawson.net \nCUSTOMS/BORDER INFORMATION
URL:https://dawsoncity.ca/event/trek-over-the-top/
LOCATION:Diamond Tooth Gerties Gambling Hall\, Corner of Fourth Avenue and Queen Street\, Dawson City\, Yukon\, Y0B1G0\, Canada
CATEGORIES:Entertainment-Nightlife,Gerties,Recreation,Wilderness
ATTACH;FMTTYPE=image/jpeg:https://dawsoncity.ca/wp-content/uploads/2014/06/Trek-resized.jpg
ORGANIZER;CN="Klondike Visitors Association":MAILTO:kva@dawson.net
GEO:64.0614231;-139.4310005
X-APPLE-STRUCTURED-LOCATION;VALUE=URI;X-ADDRESS=Diamond Tooth Gerties Gambling Hall Corner of Fourth Avenue and Queen Street Dawson City Yukon Y0B1G0 Canada;X-APPLE-RADIUS=500;X-TITLE=Corner of Fourth Avenue and Queen Street:geo:-139.4310005,64.0614231
END:VEVENT
END:VCALENDAR