BEGIN:VCALENDAR
VERSION:2.0
PRODID:-//Dawson City Yukon - ECPv6.15.20//NONSGML v1.0//EN
CALSCALE:GREGORIAN
METHOD:PUBLISH
X-WR-CALNAME:Dawson City Yukon
X-ORIGINAL-URL:https://dawsoncity.ca
X-WR-CALDESC:Events for Dawson City Yukon
REFRESH-INTERVAL;VALUE=DURATION:PT1H
X-Robots-Tag:noindex
X-PUBLISHED-TTL:PT1H
BEGIN:VTIMEZONE
TZID:America/Whitehorse
BEGIN:STANDARD
TZOFFSETFROM:-0700
TZOFFSETTO:-0700
TZNAME:MST
DTSTART:20220101T000000
END:STANDARD
END:VTIMEZONE
BEGIN:VTIMEZONE
TZID:UTC
BEGIN:STANDARD
TZOFFSETFROM:+0000
TZOFFSETTO:+0000
TZNAME:UTC
DTSTART:20220101T000000
END:STANDARD
END:VTIMEZONE
BEGIN:VEVENT
DTSTART;TZID=America/Whitehorse:20231118T110000
DTEND;TZID=America/Whitehorse:20231118T150000
DTSTAMP:20260421T083555
CREATED:20231114T180150Z
LAST-MODIFIED:20260316T121627Z
UID:10000269-1700305200-1700319600@dawsoncity.ca
SUMMARY:St. Paul's Christmas Bazaar
DESCRIPTION:Events\nEvent Details\n\nTime: April 17 @ 7:30 pm – April 17 @ 10:00 pm\n\nCost: \n\nVenue: KIAC Ballroom\n\nAddress: 902 Second Avenue\, Dawson City\, YT\, Y0B 1G0\, Canada\n\nPhone: (867) 993-5005\nView Web SiteSt. Paul's Richard Martin's Memorial Chapel Christmas Bazaar \nCome support our community makers and crafters at the St. Paul's Christmas Bazaar! With lots of baked goods\, including pies\, breads\, cookies\, and buns. There will also be made goods for new babies\, knitted items\, and other gifts.  \nFor more information contact St. Paul's Church (867) 993 6530
URL:https://dawsoncity.ca/event/st-pauls-christmas-bazaar/
LOCATION:YT
CATEGORIES:Arts and Culture,Free Event
ATTACH;FMTTYPE=image/jpeg:https://dawsoncity.ca/wp-content/uploads/2023/11/St.Pauls_Christmas-Bazaar_Feature-Square.jpg
END:VEVENT
BEGIN:VEVENT
DTSTART;TZID=UTC:20231129T200000
DTEND;TZID=UTC:20231129T220000
DTSTAMP:20260421T083555
CREATED:20200731T233719Z
LAST-MODIFIED:20231114T190503Z
UID:10000270-1701288000-1701295200@dawsoncity.ca
SUMMARY:Wednesday Night Trivia
DESCRIPTION:Live Theatre: who will save the night sky?\n				\n				\n			\n				\n				\n			\n				\n				\n				\n				\n				\n				\n				\n				\n				\n				\n				\n				\n				\n				\n				\n				\n				\n				\nEvent Details\n\nTime: April 17 @ 7:30 pm – April 17 @ 10:00 pm\n\nCost: \n\nVenue: KIAC Ballroom\n\nAddress: 902 Second Avenue\, Dawson City\, YT\, Y0B 1G0\, Canada\n\nPhone: (867) 993-5005\n\n			\n			\n				\n				\n				\n				\n				\n				\n				\n				\n				\n				\n			\n				\n				\n				\n				\n				A fun filled night of Trivia brought to you by Kyle! \nCome out to the Goat every other Wednesday for a variety of trivia categories! Come with your team or join a team when you arrive! \nSee you there!
URL:https://dawsoncity.ca/event/yukon-pride-festival/2023-11-29/
LOCATION:The Drunken Goat
CATEGORIES:Entertainment-Nightlife
ATTACH;FMTTYPE=image/jpeg:https://dawsoncity.ca/wp-content/uploads/2020/07/DCREC_Trivia-Night_Feature-Square.jpg
END:VEVENT
END:VCALENDAR