BEGIN:VCALENDAR
VERSION:2.0
PRODID:-//Dawson City Yukon - ECPv6.15.20//NONSGML v1.0//EN
CALSCALE:GREGORIAN
METHOD:PUBLISH
X-WR-CALNAME:Dawson City Yukon
X-ORIGINAL-URL:https://dawsoncity.ca
X-WR-CALDESC:Events for Dawson City Yukon
REFRESH-INTERVAL;VALUE=DURATION:PT1H
X-Robots-Tag:noindex
X-PUBLISHED-TTL:PT1H
BEGIN:VTIMEZONE
TZID:America/Whitehorse
BEGIN:STANDARD
TZOFFSETFROM:-0700
TZOFFSETTO:-0700
TZNAME:MST
DTSTART:20220101T000000
END:STANDARD
END:VTIMEZONE
BEGIN:VTIMEZONE
TZID:UTC
BEGIN:STANDARD
TZOFFSETFROM:+0000
TZOFFSETTO:+0000
TZNAME:UTC
DTSTART:20220101T000000
END:STANDARD
END:VTIMEZONE
BEGIN:VEVENT
DTSTART;TZID=America/Whitehorse:20231201T170000
DTEND;TZID=America/Whitehorse:20231201T210000
DTSTAMP:20260421T062646
CREATED:20230524T184504Z
LAST-MODIFIED:20260316T121559Z
UID:10000237-1701450000-1701464400@dawsoncity.ca
SUMMARY:Dawson City Museum Christmas Open House
DESCRIPTION:Events\nEvent Details\n\nTime: April 17 @ 7:30 pm – April 17 @ 10:00 pm\n\nCost: \n\nVenue: KIAC Ballroom\n\nAddress: 902 Second Avenue\, Dawson City\, YT\, Y0B 1G0\, Canada\n\nPhone: (867) 993-5005\nEnjoy an evening at the Dawson City Museum with snacks\, door prizes\, crafts\, and good cheer!Vendors can sign up for tables with donations of food or door prize items. Tables will be reserved first come first served. \nFor more information or to sign up contact (867) 993 5291 or info@dawsonmuseum.ca
URL:https://dawsoncity.ca/event/bry-webb/
LOCATION:Dawson City Museum\, 595 Fifth Avenue\, Dawson City\, Yukon\, Y0B 1G0\, Canada
CATEGORIES:Arts and Culture,Family Friendly Event
ATTACH;FMTTYPE=image/jpeg:https://dawsoncity.ca/wp-content/uploads/2023/05/DCM_Museum-Open-House-Fair_Feature-Square.jpg
GEO:64.0573864;-139.4351485
X-APPLE-STRUCTURED-LOCATION;VALUE=URI;X-ADDRESS=Dawson City Museum 595 Fifth Avenue Dawson City Yukon Y0B 1G0 Canada;X-APPLE-RADIUS=500;X-TITLE=595 Fifth Avenue:geo:-139.4351485,64.0573864
END:VEVENT
BEGIN:VEVENT
DTSTART;TZID=UTC:20231213T200000
DTEND;TZID=UTC:20231213T220000
DTSTAMP:20260421T062646
CREATED:20200731T233719Z
LAST-MODIFIED:20231114T190503Z
UID:10000271-1702497600-1702504800@dawsoncity.ca
SUMMARY:Wednesday Night Trivia
DESCRIPTION:Live Theatre: who will save the night sky?\n				\n				\n			\n				\n				\n			\n				\n				\n				\n				\n				\n				\n				\n				\n				\n				\n				\n				\n				\n				\n				\n				\n				\n				\nEvent Details\n\nTime: April 17 @ 7:30 pm – April 17 @ 10:00 pm\n\nCost: \n\nVenue: KIAC Ballroom\n\nAddress: 902 Second Avenue\, Dawson City\, YT\, Y0B 1G0\, Canada\n\nPhone: (867) 993-5005\n\n			\n			\n				\n				\n				\n				\n				\n				\n				\n				\n				\n				\n			\n				\n				\n				\n				\n				A fun filled night of Trivia brought to you by Kyle! \nCome out to the Goat every other Wednesday for a variety of trivia categories! Come with your team or join a team when you arrive! \nSee you there!
URL:https://dawsoncity.ca/event/yukon-pride-festival/2023-12-13/
LOCATION:The Drunken Goat
CATEGORIES:Entertainment-Nightlife
ATTACH;FMTTYPE=image/jpeg:https://dawsoncity.ca/wp-content/uploads/2020/07/DCREC_Trivia-Night_Feature-Square.jpg
END:VEVENT
END:VCALENDAR