BEGIN:VCALENDAR
VERSION:2.0
PRODID:-//Dawson City Yukon - ECPv6.15.20//NONSGML v1.0//EN
CALSCALE:GREGORIAN
METHOD:PUBLISH
X-WR-CALNAME:Dawson City Yukon
X-ORIGINAL-URL:https://dawsoncity.ca
X-WR-CALDESC:Events for Dawson City Yukon
REFRESH-INTERVAL;VALUE=DURATION:PT1H
X-Robots-Tag:noindex
X-PUBLISHED-TTL:PT1H
BEGIN:VTIMEZONE
TZID:UTC
BEGIN:STANDARD
TZOFFSETFROM:+0000
TZOFFSETTO:+0000
TZNAME:UTC
DTSTART:20230101T000000
END:STANDARD
END:VTIMEZONE
BEGIN:VEVENT
DTSTART;TZID=UTC:20240202T193000
DTEND;TZID=UTC:20240202T220000
DTSTAMP:20260421T031551
CREATED:20211025T205803Z
LAST-MODIFIED:20260316T121418Z
UID:10000162-1706902200-1706911200@dawsoncity.ca
SUMMARY:The Weather Station
DESCRIPTION:Events\nEvent Details\n\nTime: April 17 @ 7:30 pm – April 17 @ 10:00 pm\n\nCost: \n\nVenue: KIAC Ballroom\n\nAddress: 902 Second Avenue\, Dawson City\, YT\, Y0B 1G0\, Canada\n\nPhone: (867) 993-5005\nDawson City Music Festival and Klondike Institute of Art and Culture co-present The Weather Station live at Dënäkär Zho\, KIAC Ballroom.  \nToronto-based singer/songwriter Tamara Lindeman is known for her observation\, and ability to create impacting detail into her lyrics. Her latest albums under The Weather Station titled Ignorance (2021) and How Is It That I Should Look At The Stars (2022) have gone on to headline tours across North America and Europe.  \nEnjoy The Weather Station's "ornate act of world-building" (New Yorker) and acoustic folk sound that have made a mark both critically and conceptually.  \nClick buy tickets click here!
URL:https://dawsoncity.ca/event/the-weather-station/
LOCATION:Klondike Institute of Art and Culture\, 2nd and Princess\, Dawson City\, Canada
CATEGORIES:Arts and Culture,Entertainment-Nightlife
ATTACH;FMTTYPE=image/jpeg:https://dawsoncity.ca/wp-content/uploads/2021/10/DCMFandKIAC_TheWeatherStation_Feature-Square.jpg
ORGANIZER;CN="Klondike Institute of Art & Culture":MAILTO:kiac@kiac.ca
GEO:64.061002;-139.435774
X-APPLE-STRUCTURED-LOCATION;VALUE=URI;X-ADDRESS=Klondike Institute of Art and Culture 2nd and Princess Dawson City Canada;X-APPLE-RADIUS=500;X-TITLE=2nd and Princess:geo:-139.435774,64.061002
END:VEVENT
BEGIN:VEVENT
DTSTART;TZID=UTC:20240203T050000
DTEND;TZID=UTC:20240208T230000
DTSTAMP:20260421T031551
CREATED:20221019T160410Z
LAST-MODIFIED:20260316T121433Z
UID:10000160-1706936400-1707433200@dawsoncity.ca
SUMMARY:Yukon Quest Sled Dog Race
DESCRIPTION:Events\nEvent Details\n\nTime: April 17 @ 7:30 pm – April 17 @ 10:00 pm\n\nCost: \n\nVenue: KIAC Ballroom\n\nAddress: 902 Second Avenue\, Dawson City\, YT\, Y0B 1G0\, Canada\n\nPhone: (867) 993-5005\nView Web Site\nThe Yukon Quest Trail follows historical Gold Rush and mail delivery dog sled routes from the turn of the 20th Century. Once the transportation “highways” of the Northern frontier\, the trail now comes alive each February with the frosty breath and haunting howls of hundreds of sled dogs. Up to 50 dog teams consisting of one human 'musher' and 14 canine athletes tread across some of the last pristine wilderness remaining in North America. \nDawson City marks the finish line for the teams racing the Q450\, the longest distance in the Yukon Quest currently being run. There will be a concession \, warm-up area\, and greeting area that allows you to get close to the athletes and enjoy the action! So bundle warming and bring the whole family out to cheer on these incredible teams! \nFor more information visit https://www.yukonquest.com/
URL:https://dawsoncity.ca/event/yukon-quest-q450/
LOCATION:Visitors Information Centre (VIC)\, 1102 Front Street\, Dawson City\, YT\, Y0B 1G0\, Canada
CATEGORIES:Arts and Culture,Free Event,Gold Rush History,Recreation,Wilderness
ATTACH;FMTTYPE=image/png:https://dawsoncity.ca/wp-content/uploads/2018/03/Yukon-Quest-Web-Event-Feature-Square.png
GEO:64.0620983;-139.436064
X-APPLE-STRUCTURED-LOCATION;VALUE=URI;X-ADDRESS=Visitors Information Centre (VIC) 1102 Front Street Dawson City YT Y0B 1G0 Canada;X-APPLE-RADIUS=500;X-TITLE=1102 Front Street:geo:-139.436064,64.0620983
END:VEVENT
BEGIN:VEVENT
DTSTART;TZID=UTC:20240209T170000
DTEND;TZID=UTC:20240211T140000
DTSTAMP:20260421T031551
CREATED:20180309T170103Z
LAST-MODIFIED:20260316T121352Z
UID:10000063-1707498000-1707660000@dawsoncity.ca
SUMMARY:Oldtimers Hockey Tournament
DESCRIPTION:Events\nEvent Details\n\nTime: April 17 @ 7:30 pm – April 17 @ 10:00 pm\n\nCost: \n\nVenue: KIAC Ballroom\n\nAddress: 902 Second Avenue\, Dawson City\, YT\, Y0B 1G0\, Canada\n\nPhone: (867) 993-5005\n\nCome celebrate Dawson's storied hockey past in the Heart of the Klondike. Players 35 and up are invited to take part in this annual tournament\, hosted by Dawson's own Oldtimers Association. \nStrap on your skates\, grab a stick and let's do this!
URL:https://dawsoncity.ca/event/oldtimers-hockey-tournament/
LOCATION:Art and Margaret Fry Arena\, Fourth Avenue and King Street\, Dawson City\, Yukon\, Y0B1G0\, Canada
CATEGORIES:Recreation
ATTACH;FMTTYPE=image/jpeg:https://dawsoncity.ca/wp-content/uploads/2018/03/Hockey_OldTimers_Feature-Square-scaled.jpg
GEO:64.0626652;-139.4290458
X-APPLE-STRUCTURED-LOCATION;VALUE=URI;X-ADDRESS=Art and Margaret Fry Arena Fourth Avenue and King Street Dawson City Yukon Y0B1G0 Canada;X-APPLE-RADIUS=500;X-TITLE=Fourth Avenue and King Street:geo:-139.4290458,64.0626652
END:VEVENT
END:VCALENDAR