BEGIN:VCALENDAR
VERSION:2.0
PRODID:-//Dawson City Yukon - ECPv6.15.20//NONSGML v1.0//EN
CALSCALE:GREGORIAN
METHOD:PUBLISH
X-WR-CALNAME:Dawson City Yukon
X-ORIGINAL-URL:https://dawsoncity.ca
X-WR-CALDESC:Events for Dawson City Yukon
REFRESH-INTERVAL;VALUE=DURATION:PT1H
X-Robots-Tag:noindex
X-PUBLISHED-TTL:PT1H
BEGIN:VTIMEZONE
TZID:UTC
BEGIN:STANDARD
TZOFFSETFROM:+0000
TZOFFSETTO:+0000
TZNAME:UTC
DTSTART:20230101T000000
END:STANDARD
END:VTIMEZONE
BEGIN:VTIMEZONE
TZID:America/Whitehorse
BEGIN:STANDARD
TZOFFSETFROM:-0700
TZOFFSETTO:-0700
TZNAME:MST
DTSTART:20230101T000000
END:STANDARD
END:VTIMEZONE
BEGIN:VEVENT
DTSTART;TZID=UTC:20240302T193000
DTEND;TZID=UTC:20240302T220000
DTSTAMP:20260421T014618
CREATED:20220826T182911Z
LAST-MODIFIED:20260316T121424Z
UID:10000168-1709407800-1709416800@dawsoncity.ca
SUMMARY:The Ostara Project Live
DESCRIPTION:Events\nEvent Details\n\nTime: April 17 @ 7:30 pm – April 17 @ 10:00 pm\n\nCost: \n\nVenue: KIAC Ballroom\n\nAddress: 902 Second Avenue\, Dawson City\, YT\, Y0B 1G0\, Canada\n\nPhone: (867) 993-5005\nWaking from the deep sleep of winter the Ostara Project is a beautiful musical collaboration featuring the compositions and talents of several outstanding musicians\, celebrating rebirth and renewal\, as our spring cycle of growth begins anew. Each member of the ensemble has given their reverence to explore their personal musical heritage and identity as a Canadian Settler and citizen\, embarking on new projects and sounds to bring light to the creativity\, experiences\, and talents of Canadian women in Jazz. \nIn a genre and industry where women have been severely underrepresented\, the Ostara Project is a beautiful example of perseverance\, community\, and a deep love for music. New growth rises out of darkness\, stretching for new life\, propelled by hope. This is the music of Ostara. \nFor more information visit KIAC.ca \nPartnered with Jazz Yukon
URL:https://dawsoncity.ca/event/theostaraproject/
LOCATION:KIAC Ballroom\, 902 Second Avenue\, Dawson City\, YT\, Y0B 1G0\, Canada
CATEGORIES:Arts and Culture,Entertainment-Nightlife
ATTACH;FMTTYPE=image/jpeg:https://dawsoncity.ca/wp-content/uploads/2022/08/KIAC_OstaraProject_Feature-Square.jpg
ORGANIZER;CN="Klondike Institute of Art & Culture":MAILTO:kiac@kiac.ca
GEO:64.0612384;-139.4353633
X-APPLE-STRUCTURED-LOCATION;VALUE=URI;X-ADDRESS=KIAC Ballroom 902 Second Avenue Dawson City YT Y0B 1G0 Canada;X-APPLE-RADIUS=500;X-TITLE=902 Second Avenue:geo:-139.4353633,64.0612384
END:VEVENT
BEGIN:VEVENT
DTSTART;TZID=America/Whitehorse:20240306T193000
DTEND;TZID=America/Whitehorse:20240306T220000
DTSTAMP:20260421T014619
CREATED:20220613T220724Z
LAST-MODIFIED:20260316T121420Z
UID:10000164-1709753400-1709762400@dawsoncity.ca
SUMMARY:The Juliani Ensemble
DESCRIPTION:Events\nEvent Details\n\nTime: April 17 @ 7:30 pm – April 17 @ 10:00 pm\n\nCost: \n\nVenue: KIAC Ballroom\n\nAddress: 902 Second Avenue\, Dawson City\, YT\, Y0B 1G0\, Canada\n\nPhone: (867) 993-5005\nView Web SiteJoin this world-class ensemble of musicians for a fresh and fluid concert. The Juliani Ensemble inspires us to share in the joy of music through their chamber orchestra's authentic performances.This small orchestra has built a dedicated following\, garnering critical praise for their outstanding performances and dedication to musical performance\, education\, and outreach. \nAll ages licensed event with a cash bar for 19+ audience members.  \nFor more information and ticket sales visit KIAC.ca
URL:https://dawsoncity.ca/event/julianiensemble/
LOCATION:Commissioner’s Residence\, 1178 Front St.\, Dawson Ciity\, Canada
CATEGORIES:Arts and Culture,Entertainment-Nightlife
ATTACH;FMTTYPE=image/jpeg:https://dawsoncity.ca/wp-content/uploads/2022/06/KIAC_The-Juliani-Ensemble_Feature-Square.jpg
ORGANIZER;CN="Commissioner of Yukon":MAILTO:commissionersoffice@yukon.ca
GEO:64.0648683;-139.431871
X-APPLE-STRUCTURED-LOCATION;VALUE=URI;X-ADDRESS=Commissioner’s Residence 1178 Front St. Dawson Ciity Canada;X-APPLE-RADIUS=500;X-TITLE=1178 Front St.:geo:-139.431871,64.0648683
END:VEVENT
END:VCALENDAR