BEGIN:VCALENDAR
VERSION:2.0
PRODID:-//Dawson City Yukon - ECPv6.15.20//NONSGML v1.0//EN
CALSCALE:GREGORIAN
METHOD:PUBLISH
X-WR-CALNAME:Dawson City Yukon
X-ORIGINAL-URL:https://dawsoncity.ca
X-WR-CALDESC:Events for Dawson City Yukon
REFRESH-INTERVAL;VALUE=DURATION:PT1H
X-Robots-Tag:noindex
X-PUBLISHED-TTL:PT1H
BEGIN:VTIMEZONE
TZID:America/Whitehorse
BEGIN:STANDARD
TZOFFSETFROM:-0700
TZOFFSETTO:-0700
TZNAME:MST
DTSTART:20240101T000000
END:STANDARD
END:VTIMEZONE
BEGIN:VTIMEZONE
TZID:UTC
BEGIN:STANDARD
TZOFFSETFROM:+0000
TZOFFSETTO:+0000
TZNAME:UTC
DTSTART:20240101T000000
END:STANDARD
END:VTIMEZONE
BEGIN:VEVENT
DTSTART;TZID=America/Whitehorse:20251003T193000
DTEND;TZID=America/Whitehorse:20251003T220000
DTSTAMP:20260422T113701
CREATED:20250811T222358Z
LAST-MODIFIED:20260316T121718Z
UID:10000340-1759519800-1759528800@dawsoncity.ca
SUMMARY:Sarah Harmer Live
DESCRIPTION:Events\nEvent Details\n\nTime: April 17 @ 7:30 pm – April 17 @ 10:00 pm\n\nCost: \n\nVenue: KIAC Ballroom\n\nAddress: 902 Second Avenue\, Dawson City\, YT\, Y0B 1G0\, Canada\n\nPhone: (867) 993-5005\nView Web SiteBuy TicketsSarah Harmer is a multiple award-winning\, platinum-selling singer-songwriter and environmental activist. Her solo music career launched with the now classic debut You Were Here (2000) and includes six critically acclaimed albums\, including her latest\, Are You Gone\, released via Arts & Crafts in 2020. \nA deeply personal and political collection of songs motivated by the beauty of life\, the urgency of the climate crisis\, and the question of loss\, Sarah called the album a spiritual successor of sorts to her acclaimed 2000 debut. Its simple title\, Are You Gone\, is a meditation on presence and a bookend to the questions posed on You Were Here – a sharpened\, more electric confrontation with the realities of nature and human nature. \nBetween co-founding the citizen’s organization PERL (Protecting Escarpment Rural Land) and leading the successful effort to prevent an open-pit gravel mine in a UNESCO World Biosphere Reserve on the Niagara Escarpment\, Sarah has become a fixture in local politics and advocacy. In 2022\, Sarah helped launch the Reform Gravel Mining Coalition in her home province of Ontario to protect water\, farmland\, and biodiversity. This spring\, she received the prestigious 2025 Juno Humanitarian Award\, presented by Dr. David Suzuki in Vancouver BC for her human rights and advocacy work\, and was recently honoured with the keys to the city of Burlington presented by Mayor Marianne Meed Ward for her ongoing contributions to the region. \nSarah is currently writing songs for a new album.
URL:https://dawsoncity.ca/event/sarah-harmer-live/
LOCATION:Klondike Institute of Art and Culture\, 2nd and Princess\, Dawson City\, Canada
ATTACH;FMTTYPE=image/jpeg:https://dawsoncity.ca/wp-content/uploads/2025/08/Sarah-Harmer-square-web.jpg
ORGANIZER;CN="Klondike Institute of Art & Culture":MAILTO:kiac@kiac.ca
GEO:64.061002;-139.435774
X-APPLE-STRUCTURED-LOCATION;VALUE=URI;X-ADDRESS=Klondike Institute of Art and Culture 2nd and Princess Dawson City Canada;X-APPLE-RADIUS=500;X-TITLE=2nd and Princess:geo:-139.435774,64.061002
END:VEVENT
BEGIN:VEVENT
DTSTART;TZID=UTC:20251011T190000
DTEND;TZID=UTC:20251011T220000
DTSTAMP:20260422T113701
CREATED:20250903T192721Z
LAST-MODIFIED:20260316T121719Z
UID:10000341-1760209200-1760220000@dawsoncity.ca
SUMMARY:Major Funk's Disco Dance Party
DESCRIPTION:Events\nEvent Details\n\nTime: April 17 @ 7:30 pm – April 17 @ 10:00 pm\n\nCost: \n\nVenue: KIAC Ballroom\n\nAddress: 902 Second Avenue\, Dawson City\, YT\, Y0B 1G0\, Canada\n\nPhone: (867) 993-5005\nView Web Site\nDisco fever is back! Come dance the night away at the Disco Dance Party\, with the Major Funk Orchestra! \nThe Yukon’s long running dance party experts\, Major Funk\, have assembled an all-star team of musicians and dancers to bring you an unforgettable night of DISCO dance music. The “Major Funk Orchestra” features the Yukon’s favourite neighbourhood funk band\, Major Funk\, plus additional guest musicians and performers. With a full night of curated disco tunes\, choreographed dance performances\, costumes and decorations straight from the disco era\, the disco vibes and dance floor good times will be grooving all night long! \nDress to impress in your disco best! \nDoors Open at 7pm\, 8pm start \n$20 tickets at the door only
URL:https://dawsoncity.ca/event/disco-dance-party/
LOCATION:Diamond Tooth Gerties Gambling Hall\, Corner of Fourth Avenue and Queen Street\, Dawson City\, Yukon\, Y0B1G0\, Canada
CATEGORIES:Arts and Culture,Entertainment-Nightlife
ATTACH;FMTTYPE=image/jpeg:https://dawsoncity.ca/wp-content/uploads/2025/09/Disco-Dance-Party-SQ.jpg
ORGANIZER;CN="Diamond Tooth Gerties Gambling Hall":MAILTO:kva@dawson.net
GEO:64.0614231;-139.4310005
X-APPLE-STRUCTURED-LOCATION;VALUE=URI;X-ADDRESS=Diamond Tooth Gerties Gambling Hall Corner of Fourth Avenue and Queen Street Dawson City Yukon Y0B1G0 Canada;X-APPLE-RADIUS=500;X-TITLE=Corner of Fourth Avenue and Queen Street:geo:-139.4310005,64.0614231
END:VEVENT
BEGIN:VEVENT
DTSTART;TZID=America/Whitehorse:20251015T193000
DTEND;TZID=America/Whitehorse:20251015T213000
DTSTAMP:20260422T113701
CREATED:20250904T211108Z
LAST-MODIFIED:20260316T121720Z
UID:10000342-1760556600-1760563800@dawsoncity.ca
SUMMARY:Vancouver Chamber Choir
DESCRIPTION:Events\nEvent Details\n\nTime: April 17 @ 7:30 pm – April 17 @ 10:00 pm\n\nCost: \n\nVenue: KIAC Ballroom\n\nAddress: 902 Second Avenue\, Dawson City\, YT\, Y0B 1G0\, Canada\n\nPhone: (867) 993-5005\nView Web SiteBuy TicketsArtistic Director Kari Turunen began leading the Vancouver Chamber Choir — Canada’s longest-running professional choir — in September 2019\, its 49th concert season. \nJon Washburn founded the choir in 1971 and it has become an amazing success story\, ranking with the handful of North America’s best professional choruses and noted for its diverse repertoire and performing excellence. The choir has presented concerts to audiences at home in Vancouver and on tour across Canada. International excursions have taken them to the USA\, Mexica\, Japan\, China\, Hong Kong\, Taiwan\, South Korea\, Finland\, France\, Germany\, the Czech Republic\, Russia\, Estonia\, Latvia\, Lithuania and Ukraine. \nHonoured with the Margaret Hillis Award for Choral Excellence by Chorus America\, the choir has performed countless concerts and broadcasts\, released 36 recordings and received numerous awards. Foremost supporters of Canadian music\, they are responsible for commissions and premieres of 334 choral works by 145 composers and arrangers\, most of whom are Canadian. Over the years the choir has sung over 4\,000 performances of works by Canadian composers\, in addition to their extensive international repertoire. \nThe choir’s award-winning educational programs include the Conductors’ Symposium for advanced choral conductors\, Interplay interactive workshops for choral composers\, Focus professional development program for student singers\, OnSite visitations for school choirs\, the biennial Young Composers’ Competition\, and many on-tour workshops and residencies.
URL:https://dawsoncity.ca/event/vancouver-chamber-choir/
LOCATION:Klondike Institute of Art and Culture\, 2nd and Princess\, Dawson City\, Canada
ATTACH;FMTTYPE=image/jpeg:https://dawsoncity.ca/wp-content/uploads/2025/09/Vancouver-Chamber-Choir-SQ.jpg
ORGANIZER;CN="Klondike Institute of Art & Culture":MAILTO:kiac@kiac.ca
GEO:64.061002;-139.435774
X-APPLE-STRUCTURED-LOCATION;VALUE=URI;X-ADDRESS=Klondike Institute of Art and Culture 2nd and Princess Dawson City Canada;X-APPLE-RADIUS=500;X-TITLE=2nd and Princess:geo:-139.435774,64.061002
END:VEVENT
BEGIN:VEVENT
DTSTART;TZID=UTC:20251019T190000
DTEND;TZID=UTC:20251019T213000
DTSTAMP:20260422T113701
CREATED:20250918T173019Z
LAST-MODIFIED:20260316T121722Z
UID:10000343-1760900400-1760909400@dawsoncity.ca
SUMMARY:The Bad Apples - Comedy Show
DESCRIPTION:Events\nEvent Details\n\nTime: April 17 @ 7:30 pm – April 17 @ 10:00 pm\n\nCost: \n\nVenue: KIAC Ballroom\n\nAddress: 902 Second Avenue\, Dawson City\, YT\, Y0B 1G0\, Canada\n\nPhone: (867) 993-5005\nView Web SiteBuy Tickets Now!\n\nJoin us on Sunday October 19th at 8:00 PM at The Drunken Goat Taverna for a comedy show like no other! Nelson Mayer and Clayton T. Stewart are the dynamic duo behind The Bad Apples.\n \nTogether\, they've carved their names into the stand-up comedy scene\, bringing laughter to audiences across the globe. Their hilarious performances have graced renowned platforms like HBO\, Prime Video\, Crave TV\, APTN\, APTN Lumi\, CBC\, Sirius XM\, iTunes\, and TUBI. Now they are bringing their unique brand of stand-up comedy to Dawson City\, YT.\n \nThe Bad Apples\, featuring the comedic talents of Nelson Mayer and Clayton T. Stewart. With Special Guest Chris Basso!\n \nNelson Mayer\, hailing from the vibrant city of Winnipeg\, Manitoba\, brings his Metis heritage to the forefront of his comedy. With an international touring record that spans Europe and an extensive comedic journey throughout Canada and the US\, Mayer's comedic prowess knows no bounds. Notably\, he has performed at the illustrious Comedy Store in Los Angeles\, an iconic milestone for any stand-up comedian. In 2018\, Mayer's comedic brilliance earned him a spot as a Finalist in the esteemed World Series of Comedy in Las Vegas. His talent continued to shine\, with a victorious win as the "Comedian of the North" in the 2020 Comedy Competition. His star continued to rise as he graced stages at The Thunder Bay Comedy Festival in 2019\, the Winnipeg Comedy Festival in 2023\, and even the 2nd International Comedy Festival in Los Angeles in 2023 & 2025\, where he was crowned "Best of the Fest." Mayer's presence extends beyond the stage\, as he takes on the role of the charismatic host of APTN's "Got Identity?"—a role that showcases his versatility. His comedic genius has also found its way onto the airwaves through appearances on CBC radio's "Unreserved" and XM/Sirius Radio.\n \nClayton T. Stewart\, representing the Peguis First Nation\, brings his proud Ojibwe heritage and Treaty membership to his uproarious performances. With a decade of stand-up comedy experience under his belt\, Stewart's charisma and quick wit have captivated audiences from coast to coast. His comedic journey has taken him to iconic stages in Los Angeles\, New York\, and Hawaii\, leaving a trail of laughter in his wake. Stewart's talents have shone brightly at revered comedy festivals like the Thunder Bay Comedy Festival\, Best Medicine: Indigenous Comedy Festival\, and the Winnipeg Comedy Festival. Beyond the stage\, his artistic talents have expanded into film and television\, with appearances in movies such as "SORRY FOR YOUR LOSS" and "GOON\," as well as TV shows like DISNEY+'s "TODD & THE BOOK OF PURE EVIL\," HBO's "LESS THAN KIND\," and APTN's "CASHING IN."\n \nChris Basso has performed on stages all across Canada and the US. Currently he’s touring with The Comedy Misfits and Bad Decisions Comedy teams. His relatable life experiences plus some weird ones combined with a deadpan style approach will catch you off guard laughing and wondering “Is he okay?” Spoiler: probably not.\n \nThe comedic synergy between Nelson Mayer and Clayton T. Stewart has created a comedic force to be reckoned with—the beloved Bad Apples. With a blend of cultural insights\, personal experiences\, and an unapologetic sense of humor\, their performances leave audiences doubled over with laughter and inspired by their unique perspectives. As they continue to make waves on the global comedy stage\, The Bad Apples solidify their place as a dynamic and unforgettable comedic duo.\n \nDon't miss out on this unforgettable evening of comedy gold. Grab your friends\, family\, and even your neighbors for a night that promises to leave you in stitches! Tickets are only $20 in Advance\, $25 at the Door!\n \nCome join us for an evening of laughter\, camaraderie\, and unforgettable memories. See you there!\n\n\nBuy Tickets Now!
URL:https://dawsoncity.ca/event/bad-apples/
LOCATION:The Drunken Goat
CATEGORIES:Arts and Culture,Entertainment-Nightlife
ATTACH;FMTTYPE=image/jpeg:https://dawsoncity.ca/wp-content/uploads/2025/09/bad-apples-comedy-show-S.jpg
END:VEVENT
BEGIN:VEVENT
DTSTART;TZID=UTC:20251030T180000
DTEND;TZID=UTC:20251030T210000
DTSTAMP:20260422T113701
CREATED:20251022T201346Z
LAST-MODIFIED:20260316T121726Z
UID:10000347-1761847200-1761858000@dawsoncity.ca
SUMMARY:Dawson Haunted
DESCRIPTION:Events\nEvent Details\n\nTime: April 17 @ 7:30 pm – April 17 @ 10:00 pm\n\nCost: \n\nVenue: KIAC Ballroom\n\nAddress: 902 Second Avenue\, Dawson City\, YT\, Y0B 1G0\, Canada\n\nPhone: (867) 993-5005\n\nParks Canada proudly presents... Dawson Haunted! \nFor one very memorable October evening\, Downtown Dawson City will transform into a terrifying neighbourhood of haunted houses! The iconic Parks Canada buildings are getting monstrous makeovers by local organizations and you're invited inside... Brace yourself for the spookiest tour of town! \nFor a less scary tour\, be sure to tour the haunted houses before 7pm. The Visitor Information Centre will be open to warm up and use the washroom. \nDAWSON HAUNTEDOld Post OfficePalace GrandLowe's MortuaryKTM Co.Ruby's Place
URL:https://dawsoncity.ca/event/dawson-haunted/
LOCATION:All throughout Dawson\, Dawson City\, Canada
CATEGORIES:Entertainment-Nightlife,Free Event
ATTACH;FMTTYPE=image/png:https://dawsoncity.ca/wp-content/uploads/2025/10/Creepy-Crawl-feature-image.png
ORGANIZER;CN="Parks Canada":MAILTO:Dawson.info@pc.gc.ca 
GEO:64.0600696;-139.4320347
END:VEVENT
BEGIN:VEVENT
DTSTART;TZID=UTC:20251031T203000
DTEND;TZID=UTC:20251031T220000
DTSTAMP:20260422T113701
CREATED:20251023T192714Z
LAST-MODIFIED:20260316T121727Z
UID:10000348-1761942600-1761948000@dawsoncity.ca
SUMMARY:Rain City Improv: A Night of Laughs
DESCRIPTION:Events\nEvent Details\n\nTime: April 17 @ 7:30 pm – April 17 @ 10:00 pm\n\nCost: \n\nVenue: KIAC Ballroom\n\nAddress: 902 Second Avenue\, Dawson City\, YT\, Y0B 1G0\, Canada\n\nPhone: (867) 993-5005\nView Web SiteGet ready for a wild ride of laughter and chaos as Taz and Rae take the stage in this one-of-a-kind improv comedy show! \nAudience participation is the name of the game — they’ll take your local gossip and weird lore to spin into scenes that’ll have you in stitches. Watch as Taz and Rae try desperately to fit in as locals\, diving headfirst into the quirks and eccentricities of the city (they’ve done no research\, by the way). \nExpect plenty of laughs as some lucky audience volunteers even get pulled onstage to join the hilarity. It’s a fun\, interactive night out that you won’t want to miss! \nDoors at 8:30pm\, show at at 9:00pmCo-presented by Yukon Arts CentrePay What You Want \nRSVP on Facebook
URL:https://dawsoncity.ca/event/rain-city-improv/
LOCATION:KIAC Ballroom\, 902 Second Avenue\, Dawson City\, YT\, Y0B 1G0\, Canada
CATEGORIES:Arts and Culture,Entertainment-Nightlife
ATTACH;FMTTYPE=image/png:https://dawsoncity.ca/wp-content/uploads/2025/10/River-City-Improv-feature-image.png
ORGANIZER;CN="Klondike Institute of Art & Culture":MAILTO:kiac@kiac.ca
GEO:64.0612384;-139.4353633
X-APPLE-STRUCTURED-LOCATION;VALUE=URI;X-ADDRESS=KIAC Ballroom 902 Second Avenue Dawson City YT Y0B 1G0 Canada;X-APPLE-RADIUS=500;X-TITLE=902 Second Avenue:geo:-139.4353633,64.0612384
END:VEVENT
END:VCALENDAR