BEGIN:VCALENDAR
VERSION:2.0
PRODID:-//Dawson City Yukon - ECPv6.15.20//NONSGML v1.0//EN
CALSCALE:GREGORIAN
METHOD:PUBLISH
X-ORIGINAL-URL:https://dawsoncity.ca
X-WR-CALDESC:Events for Dawson City Yukon
REFRESH-INTERVAL;VALUE=DURATION:PT1H
X-Robots-Tag:noindex
X-PUBLISHED-TTL:PT1H
BEGIN:VTIMEZONE
TZID:UTC
BEGIN:STANDARD
TZOFFSETFROM:+0000
TZOFFSETTO:+0000
TZNAME:UTC
DTSTART:20250101T000000
END:STANDARD
END:VTIMEZONE
BEGIN:VEVENT
DTSTART;TZID=UTC:20260508T190000
DTEND;TZID=UTC:20260509T020000
DTSTAMP:20260421T121045
CREATED:20180309T103357Z
LAST-MODIFIED:20260316T121343Z
UID:10000030-1778266800-1778292000@dawsoncity.ca
SUMMARY:Gerties Opening Night
DESCRIPTION:Events\nEvent Details\n\nTime: April 17 @ 7:30 pm – April 17 @ 10:00 pm\n\nCost: \n\nVenue: KIAC Ballroom\n\nAddress: 902 Second Avenue\, Dawson City\, YT\, Y0B 1G0\, Canada\n\nPhone: (867) 993-5005\n\nCanada's First Casino opens its doors for the summer season. Come take in the first cancan shows of the year. It's going to be a packed house\, so get here early to make sure you catch all the action!
URL:https://dawsoncity.ca/event/gerties-opening-night/
LOCATION:Diamond Tooth Gerties Gambling Hall\, Corner of Fourth Avenue and Queen Street\, Dawson City\, Yukon\, Y0B1G0\, Canada
CATEGORIES:Arts and Culture,Entertainment-Nightlife,Gerties
ATTACH;FMTTYPE=image/jpeg:https://dawsoncity.ca/wp-content/uploads/2018/03/DTG_GertiesOpeningShow_Feature-Square.jpg
ORGANIZER;CN="Diamond Tooth Gerties Gambling Hall":MAILTO:kva@dawson.net
GEO:64.0614231;-139.4310005
X-APPLE-STRUCTURED-LOCATION;VALUE=URI;X-ADDRESS=Diamond Tooth Gerties Gambling Hall Corner of Fourth Avenue and Queen Street Dawson City Yukon Y0B1G0 Canada;X-APPLE-RADIUS=500;X-TITLE=Corner of Fourth Avenue and Queen Street:geo:-139.4310005,64.0614231
END:VEVENT
END:VCALENDAR