BEGIN:VCALENDAR
VERSION:2.0
PRODID:-//Dawson City Yukon - ECPv6.15.20//NONSGML v1.0//EN
CALSCALE:GREGORIAN
METHOD:PUBLISH
X-WR-CALNAME:Dawson City Yukon
X-ORIGINAL-URL:https://dawsoncity.ca
X-WR-CALDESC:Events for Dawson City Yukon
REFRESH-INTERVAL;VALUE=DURATION:PT1H
X-Robots-Tag:noindex
X-PUBLISHED-TTL:PT1H
BEGIN:VTIMEZONE
TZID:UTC
BEGIN:STANDARD
TZOFFSETFROM:+0000
TZOFFSETTO:+0000
TZNAME:UTC
DTSTART:20250101T000000
END:STANDARD
END:VTIMEZONE
BEGIN:VEVENT
DTSTART;VALUE=DATE:20260730
DTEND;VALUE=DATE:20260804
DTSTAMP:20260421T164804
CREATED:20180309T112959Z
LAST-MODIFIED:20260316T121350Z
UID:10000045-1785380400-1785725999@dawsoncity.ca
SUMMARY:Moosehide Gathering
DESCRIPTION:Events\nEvent Details\n\nTime: April 17 @ 7:30 pm – April 17 @ 10:00 pm\n\nCost: \n\nVenue: KIAC Ballroom\n\nAddress: 902 Second Avenue\, Dawson City\, YT\, Y0B 1G0\, Canada\n\nPhone: (867) 993-5005\n\nIn the late 1800s\, as tens of thousands of gold seekers arrived in the Klondike Valley\, Chief Isaac of the Hän people recognized that his community’s traditions and way of life were threatened. He took the songs and dances of his people across the border to the old Tanacross village at Lake Mansfield\, Alaska\, entrusting his relatives to preserve them until the time was right. At this time\, the Hän people moved from Tr’ochëk\, their fish camp at the mouth of the Klondike and Yukon rivers\, to Moosehide Village where we celebrate the gathering today. \nThe Tanacross community and extended family members held Chief Isaac’s songs for our people for many decades until we were ready to reclaim them. The 1991 Yukon Aboriginal Languages Conference provided inspiration for the renewal of Tr’ondëk Hwëch’in culture. Our main objective was to revitalize Hän history\, songs\, dances\, and traditional dress. That same year\, we held a weekend camp to bring people together and enjoy each other’s company. \nIn 1992\, a group of Tr’ondëk Hwëch’in people travelled to Tanacross to observe and learn how to host a large traditional gathering. It was then that they began learning long-forgotten Hän songs and dances. \nCommitted to revitalizing our ancestors’ celebrations\, the Tr’ondëk Hwëch’in hosted the first Moosehide Gathering in 1993. Moosehide Gathering is a celebration of our culture and honoring of our heritage\, our ancestors\, and our future. We invite everyone to join us at Moosehide to share our stories\, songs\, and dances\, enjoy local and guest performers\, and the tasty feasts prepared by our cooks. We are honored to have you visit us.
URL:https://dawsoncity.ca/event/moosehide-gathering/
LOCATION:Moosehide Village\, 3 km downriver from Dawson City by Boat (boat rides provided) or 4.5 km by forest trail.\, Dawson City\, Yukon\, Y0B1G0\, Canada
CATEGORIES:Arts and Culture,First Nations Heritage,Free Event,Wilderness
ATTACH;FMTTYPE=image/jpeg:https://dawsoncity.ca/wp-content/uploads/2018/03/TH_MoosehideGathering_Feature-Square.jpg
ORGANIZER;CN="Tr'ond%C3%ABk Hw%C3%ABch'in":MAILTO:info@moosehidegathering.ca
GEO:64.059036;-139.436916
X-APPLE-STRUCTURED-LOCATION;VALUE=URI;X-ADDRESS=Moosehide Village 3 km downriver from Dawson City by Boat (boat rides provided) or 4.5 km by forest trail. Dawson City Yukon Y0B1G0 Canada;X-APPLE-RADIUS=500;X-TITLE=3 km downriver from Dawson City by Boat (boat rides provided) or 4.5 km by forest trail.:geo:-139.436916,64.059036
END:VEVENT
BEGIN:VEVENT
DTSTART;TZID=UTC:20260807T120000
DTEND;TZID=UTC:20260809T233000
DTSTAMP:20260421T164804
CREATED:20240729T225301Z
LAST-MODIFIED:20260316T121647Z
UID:10000303-1786104000-1786318200@dawsoncity.ca
SUMMARY:Dawson City Honky Tonk
DESCRIPTION:Events\nEvent Details\n\nTime: April 17 @ 7:30 pm – April 17 @ 10:00 pm\n\nCost: \n\nVenue: KIAC Ballroom\n\nAddress: 902 Second Avenue\, Dawson City\, YT\, Y0B 1G0\, Canada\n\nPhone: (867) 993-5005\nView Web SiteHonky Tonk is back in town! Put on your dancing boots\, Dawson\, 'cause performers from far and wide will be entertaining you all weekend long at various venues across the Klondike. Come on down and and two-step your little heart out!
URL:https://dawsoncity.ca/event/dawson-city-honky-tonk/
LOCATION:All throughout Dawson\, Dawson City\, Canada
CATEGORIES:Arts and Culture,Entertainment-Nightlife
ATTACH;FMTTYPE=image/png:https://dawsoncity.ca/wp-content/uploads/2024/07/Website-Event-Image-square-2.png
GEO:64.0600696;-139.4320347
END:VEVENT
BEGIN:VEVENT
DTSTART;TZID=UTC:20260812T120000
DTEND;TZID=UTC:20260815T200000
DTSTAMP:20260421T164804
CREATED:20221022T002527Z
LAST-MODIFIED:20260316T121457Z
UID:10000088-1786536000-1786824000@dawsoncity.ca
SUMMARY:Discovery Day Golf Tournament
DESCRIPTION:Events\nEvent Details\n\nTime: April 17 @ 7:30 pm – April 17 @ 10:00 pm\n\nCost: \n\nVenue: KIAC Ballroom\n\nAddress: 902 Second Avenue\, Dawson City\, YT\, Y0B 1G0\, Canada\n\nPhone: (867) 993-5005\nThis Discovery Day\, come golf in the Klondike! \nTeams of 4 play 18 holes of scramble (best ball). Teams may complete all 18 holes in one shot or chose to break it up over two 9-hole sessions. Teams must complete all 18 holes over the three day period. \nWinners and prize banquet to take place on the Saturday. \nWith great prizes\, great food\, and exceptional golfing; this is a weekend not to be missed.
URL:https://dawsoncity.ca/event/midnight-sun-golf-tournament-2/
LOCATION:Dawson City Golf Course\, Lot 1087\, Quad 116B/03\, Plan 83533\, Dawson City\, Y0B1G0
CATEGORIES:Free Event,Recreation
ATTACH;FMTTYPE=image/jpeg:https://dawsoncity.ca/wp-content/uploads/2018/03/Photo-Credit-Rolling-Van-Creative-All-Rights-0272.jpg
ORGANIZER;CN="Dawson City Golf Course":MAILTO:dawsoncitygolfcourse@gmail.com
GEO:64.059036;-139.436916
X-APPLE-STRUCTURED-LOCATION;VALUE=URI;X-ADDRESS=Dawson City Golf Course Lot 1087 Quad 116B/03 Plan 83533 Dawson City Y0B1G0;X-APPLE-RADIUS=500;X-TITLE=Lot 1087\, Quad 116B/03\, Plan 83533:geo:-139.436916,64.059036
END:VEVENT
BEGIN:VEVENT
DTSTART;VALUE=DATE:20260814
DTEND;VALUE=DATE:20260818
DTSTAMP:20260421T164804
CREATED:20221020T104207Z
LAST-MODIFIED:20260316T121447Z
UID:10000133-1786676400-1786935599@dawsoncity.ca
SUMMARY:Discovery Day Celebrations
DESCRIPTION:Events\nEvent Details\n\nTime: April 17 @ 7:30 pm – April 17 @ 10:00 pm\n\nCost: \n\nVenue: KIAC Ballroom\n\nAddress: 902 Second Avenue\, Dawson City\, YT\, Y0B 1G0\, Canada\n\nPhone: (867) 993-5005\nView the 2025 Schedule (For reference only)\nDiscovery Days in Dawson City celebrates the discovery of gold in what is now known as Bonanza Creek in August 1896 by Kate Carmack\, her husband George Carmack\, brother Skookum Jim and cousin Dawson Charlie. Their Discovery of gold led to one of the world's greatest gold rush stampedes\, where nearly 100\,000 people migrated north in an attempt to strike it rich during the Klondike Gold Rush. \n\nToday\, Yukon celebrates our grand history with a weekend festival in Dawson City\, known as Discovery Days. The weekend is made up of events such as a parade\, a fastball tournament\, a golf tournament\, a horticultural exhibition\, as well as live music and art! \nThere are barely enough hours in the day to do and see everything! \n\n\n \nView 2025 Schedule (For reference only)
URL:https://dawsoncity.ca/event/discovery-days/
LOCATION:All throughout Dawson\, Dawson City\, Canada
CATEGORIES:Arts and Culture,First Nations Heritage,Gold Rush History,Recreation
ATTACH;FMTTYPE=image/png:https://dawsoncity.ca/wp-content/uploads/2022/10/Dicovery-Days-Feature-Square.png
ORGANIZER;CN="Klondike Visitors Association":MAILTO:kva@dawson.net
GEO:64.0600696;-139.4320347
END:VEVENT
BEGIN:VEVENT
DTSTART;TZID=UTC:20260814T170000
DTEND;TZID=UTC:20260816T170000
DTSTAMP:20260421T164804
CREATED:20221021T022539Z
LAST-MODIFIED:20260316T121455Z
UID:10000086-1786726800-1786899600@dawsoncity.ca
SUMMARY:Discovery Days Fastball Tournament
DESCRIPTION:Events\nEvent Details\n\nTime: April 17 @ 7:30 pm – April 17 @ 10:00 pm\n\nCost: \n\nVenue: KIAC Ballroom\n\nAddress: 902 Second Avenue\, Dawson City\, YT\, Y0B 1G0\, Canada\n\nPhone: (867) 993-5005\n\nGear up and get the whole family ready for a weekend of fun and fastball! \nTeams from all over the North are welcome at the annual Discovery Days Fastball Tournament. Throughout the weekend\, in addition to some quality fastball\, fans and players can enjoy a concession\, beer garden\, lawn games\, world-class heckling\, and a home-run derby! \nRegistration opens in the spring! \n 
URL:https://dawsoncity.ca/event/discoverydaysfastballtournament/
LOCATION:Minto Park & Crocus Bluff Ball Fields\, Dawson City\, Y0B 1G0
CATEGORIES:Arts and Culture,Free Event,Recreation
ATTACH;FMTTYPE=image/jpeg:https://dawsoncity.ca/wp-content/uploads/2019/04/Disco-Days-Baseball-20134.jpg
GEO:64.059036;-139.436916
END:VEVENT
BEGIN:VEVENT
DTSTART;TZID=UTC:20260815T113000
DTEND;TZID=UTC:20260815T140000
DTSTAMP:20260421T164804
CREATED:20180309T114610Z
LAST-MODIFIED:20260316T121351Z
UID:10000049-1786793400-1786802400@dawsoncity.ca
SUMMARY:Horticultural Exhibition
DESCRIPTION:Events\nEvent Details\n\nTime: April 17 @ 7:30 pm – April 17 @ 10:00 pm\n\nCost: \n\nVenue: KIAC Ballroom\n\nAddress: 902 Second Avenue\, Dawson City\, YT\, Y0B 1G0\, Canada\n\nPhone: (867) 993-5005\n\nThe Horticultural Exhibition is the place to see the delicious and impressive stuff that gets grown or made right here in Dawson City! Held on Discovery Days weekend\, the Horticultural Exhibition shows off the best that Dawson's green-thumbs have to offer.  Categories expand to more than just gardens too.  They include veggies\, berries\, flowers\, baking\, preserves\, quilting\, beading\, and photography. \nAll are welcome to submit entries at the tent on Front Street by the Artists Market.  The schedule for the day is as follows:Drop off: 8:30am to 11:00amJudging & viewing: 11:30am to 2pmPick up your entries: 2pm to 2:30pmAggregate winners will be recognized at the Gazebo at 2:30pm \nEveryone\, regardless of skill or age level is encouraged to participate. (Including kids!) \nWe ask that you do not touch any of the exhibits. \nFor a list of the categories\, check out the 2025 Horticultural Exhibition program\, click here! (For reference only)  
URL:https://dawsoncity.ca/event/horticultural-exhibition/
LOCATION:Waterfront Park (Along Front St.)\, Front St.\, Dawson 
CATEGORIES:Arts and Culture,Free Event
ATTACH;FMTTYPE=image/jpeg:https://dawsoncity.ca/wp-content/uploads/2018/03/Horticultural-Exhibition-Square.jpg
GEO:64.0613142;-139.436872
X-APPLE-STRUCTURED-LOCATION;VALUE=URI;X-ADDRESS=Waterfront Park (Along Front St.) Front St. Dawson;X-APPLE-RADIUS=500;X-TITLE=Front St.:geo:-139.436872,64.0613142
END:VEVENT
END:VCALENDAR