BEGIN:VCALENDAR
VERSION:2.0
PRODID:-//Dawson City Yukon - ECPv6.15.20//NONSGML v1.0//EN
CALSCALE:GREGORIAN
METHOD:PUBLISH
X-WR-CALNAME:Dawson City Yukon
X-ORIGINAL-URL:https://dawsoncity.ca
X-WR-CALDESC:Events for Dawson City Yukon
REFRESH-INTERVAL;VALUE=DURATION:PT1H
X-Robots-Tag:noindex
X-PUBLISHED-TTL:PT1H
BEGIN:VTIMEZONE
TZID:UTC
BEGIN:STANDARD
TZOFFSETFROM:+0000
TZOFFSETTO:+0000
TZNAME:UTC
DTSTART:20240101T000000
END:STANDARD
END:VTIMEZONE
BEGIN:VEVENT
DTSTART;TZID=UTC:20251107T193000
DTEND;TZID=UTC:20251107T220000
DTSTAMP:20260421T173949
CREATED:20251022T191705Z
LAST-MODIFIED:20260316T121723Z
UID:10000344-1762543800-1762552800@dawsoncity.ca
SUMMARY:Jazz on the Road
DESCRIPTION:Events\nEvent Details\n\nTime: April 17 @ 7:30 pm – April 17 @ 10:00 pm\n\nCost: \n\nVenue: KIAC Ballroom\n\nAddress: 902 Second Avenue\, Dawson City\, YT\, Y0B 1G0\, Canada\n\nPhone: (867) 993-5005\nView Web SiteBuy TicketsWith a dash of vocal jazz syntax\, a tablespoon of surprising harmonic progressions\, some honest lyricism\, and a splash of delightful time signature math\, The Hannah Mazurek Quartet will do their best to serve you up a platter of tunes that are equal parts personal and playful. This genre-defying project will combine original composition with favourites from artists that toe the lines between jazz\, blues\, classical\, folk\, and whatever else they happened to be listening to that day. \nHannah Mazurek is a Whitehorse-based vocalist\, multi-instrumentalist\, conductor\, composer\, and technician. They have performed in concert and theatre settings across the country including the oratorio Miziwe… everywhere by composer Barbara Assiginaak (Koerner Hall\, Toronto\, 2019)\, Larrikin Entertainment’s WYRD: A Musical Unfairytale (Yukon Arts Centre\, 2023)\, The Loon Returns (Problematic Orchestra\, 2023)\, and I Think I’m Fallin: The Songs of Joni Mitchell (Belfry Theatre\, Victoria\, 2023). With a formal background in classical music\, they are the current Artistic Director of Whitehorse’s Problematic Orchestra and have composed for theatre\, stage\, and film. When they’re not writing or performing\, you can find Hannah coiling cables and plugging things in\, as well as playing in many\, many\, many bands. They also do other things\, perhaps too many things\, but they’ll spare you from having to read a list of them. \nTHE BANDHannah Mazurek (vocals and keys)Jordy Walker (guitar)Adam Cripps (bass)Jake Jenne (drums) \nCo-presented with Jazz Yukon – ‘Jazz on the Road’Doors at 7:30pm\, show at 8:00pmPay What You Want
URL:https://dawsoncity.ca/event/jazz-on-the-road/
LOCATION:KIAC Ballroom\, 902 Second Avenue\, Dawson City\, YT\, Y0B 1G0\, Canada
CATEGORIES:Arts and Culture,Entertainment-Nightlife
ATTACH;FMTTYPE=image/png:https://dawsoncity.ca/wp-content/uploads/2025/10/Jazz-on-the-Road-Feature.png
ORGANIZER;CN="Klondike Institute of Art & Culture":MAILTO:kiac@kiac.ca
GEO:64.0612384;-139.4353633
X-APPLE-STRUCTURED-LOCATION;VALUE=URI;X-ADDRESS=KIAC Ballroom 902 Second Avenue Dawson City YT Y0B 1G0 Canada;X-APPLE-RADIUS=500;X-TITLE=902 Second Avenue:geo:-139.4353633,64.0612384
END:VEVENT
BEGIN:VEVENT
DTSTART;TZID=UTC:20251126T193000
DTEND;TZID=UTC:20251126T220000
DTSTAMP:20260421T173949
CREATED:20251022T193627Z
LAST-MODIFIED:20260316T121724Z
UID:10000346-1764185400-1764194400@dawsoncity.ca
SUMMARY:Les Hay Babies
DESCRIPTION:Events\nEvent Details\n\nTime: April 17 @ 7:30 pm – April 17 @ 10:00 pm\n\nCost: \n\nVenue: KIAC Ballroom\n\nAddress: 902 Second Avenue\, Dawson City\, YT\, Y0B 1G0\, Canada\n\nPhone: (867) 993-5005\nView Web SiteBuy TicketsLes Hay Babies – Tintamarre! \n(English version available below) \nDans le cadre du Coup de cœur francophone 2025\, Le Klondike Institute of Arts & Culture en partenariat avec l’Association franco-yukonnaise sont fières de vous présenter le spectacle des Hay Babies\, Tintamarre! \nLes Hay Babies\, c’est d’abord des amies : le fun passe avant le travail\, pis le travail se fait dans le fun. Acadiennes d’origine néo-brunswickoise\, Julie Aubé\, Katrine Noël et Vivianne Roy avancent leur folk-rock pluriel et pétillant depuis plus d’une décennie\, renouvelant leur proposition musicale à chaque parution. Découvertes via l’EP indie-folk / country Folio en 2012\, elles rappliquent deux ans plus tard avec Mon homesickheart en 2014\, un premier album aux sonorités folk-rock contemporaines. Le rock 60s / 70s et les ballades 80s de La 4ième dimension (version longue) suivent en 2016\, puis la pop / disco 70s de Boîte aux lettres en 2020. Un quatrième album\, Tintamarre\, celui-ci inspiré du roots rock des jukeboxes louisianais\, est paru en octobre 2024. Changements de cap toujours\, donc – ce qui fait autant la marque du groupe que son entrain indéfectible et son intérêt pour l’actualisation des sons passés. \n________________________________________________________________________________ \nThe Hay Babies – Tintamarre! \nAs part of Coup de Cœur Francophone 2025\, the Klondike Institute of Art & Culture\, in partnership with the Association franco-yukonnaise (AFY)\, is proud to present The Hay Babies – Tintamarre! \nLes Hay Babies are friends first: fun comes before work and work is done while having fun. New Brunswick-born Acadians Julie Aubé\, Katrine Noël and Vivianne Roy have been bringing forth their sparkling\, multifaceted folk-rock for over a decade\, renewing their musical proposition with each new release. Since forming a band in 2011\, they have launched their EP Folio (2012) and the albums* Mon homesick heart* (2014)\, La 4ième dimension (version longue) (2016)\, and Boîte aux lettres (2020)\, shifting from indie-folk and country to classic rock and disco. They reinvent their sound once again with their fourth album\, to come out in 2024: a trademark of theirs as much as their unwavering drive and interest in actualizing sounds from past decades.
URL:https://dawsoncity.ca/event/les-hay-babies/
LOCATION:KIAC Ballroom\, 902 Second Avenue\, Dawson City\, YT\, Y0B 1G0\, Canada
CATEGORIES:Arts and Culture,Entertainment-Nightlife
ATTACH;FMTTYPE=image/png:https://dawsoncity.ca/wp-content/uploads/2025/10/Les-Hay-Babies-feature-image.png
ORGANIZER;CN="Klondike Institute of Art & Culture":MAILTO:kiac@kiac.ca
GEO:64.0612384;-139.4353633
X-APPLE-STRUCTURED-LOCATION;VALUE=URI;X-ADDRESS=KIAC Ballroom 902 Second Avenue Dawson City YT Y0B 1G0 Canada;X-APPLE-RADIUS=500;X-TITLE=902 Second Avenue:geo:-139.4353633,64.0612384
END:VEVENT
BEGIN:VEVENT
DTSTART;TZID=UTC:20251129T100000
DTEND;TZID=UTC:20251129T160000
DTSTAMP:20260421T173949
CREATED:20221018T013619Z
LAST-MODIFIED:20260316T121429Z
UID:10000154-1764410400-1764432000@dawsoncity.ca
SUMMARY:KIAC Art & Craft Fair
DESCRIPTION:Events\nEvent Details\n\nTime: April 17 @ 7:30 pm – April 17 @ 10:00 pm\n\nCost: \n\nVenue: KIAC Ballroom\n\nAddress: 902 Second Avenue\, Dawson City\, YT\, Y0B 1G0\, Canada\n\nPhone: (867) 993-5005\nView Web SiteGet into the festive spirit at the KIAC Art & Craft Fair\, Dawson's annual celebration of creativity\, community\, and handmade craftsmanship! Hosted by the Klondike Institute of Art & Culture\, this beloved event brings together dozens of talented Yukon artists and makers under one roof. You’ll find a beautiful variety of unique\, locally made treasures — from pottery\, jewellery\, and textiles to herbal products\, woodwork\, art prints\, and more. It’s the perfect place to find one-of-a-kind gifts for friends and family (or a treat for yourself!) while supporting local creators and the arts community. \nEnjoy the warm\, welcoming atmosphere inside KIAC’s historic Dënäkär Zho building as you browse\, chat with artisans\, and grab a bite from the concession. The fair also features a quiet Accessibility Hour at the start of the day for those who prefer a calmer shopping experience. Come shop local\, connect with your community\, and discover the creative heart of Dawson City! \nAccessible Hour: 10:00am-11:00amGeneral Public: 11:00am-4:00pmConcession: 11:00am-4:00pm \n--- \nAccessibility Hour is for anyone who:  \n\nHas concerns around their immune health – wearing face coverings & masks is encouraged during this hour\nHas anxiety around crowds – this hour is less busy than the rest of the day\nHas accessibility needs (physical and neurological) – KIAC staff are on call for support and the space is easier to navigate during this hour\nHas food allergies – the concession will be closed during this time\nHas hearing impairments – this hour is quieter than the rest of the day and therefore easier to communicate to vendors\nEtc!
URL:https://dawsoncity.ca/event/kiac-art-and-craft-fair/
LOCATION:KIAC Ballroom\, 902 Second Avenue\, Dawson City\, YT\, Y0B 1G0\, Canada
CATEGORIES:Arts and Culture,Free Event
ATTACH;FMTTYPE=image/jpeg:https://dawsoncity.ca/wp-content/uploads/2021/10/Kraft-Fair-Square.jpg
ORGANIZER;CN="Klondike Institute of Art & Culture":MAILTO:kiac@kiac.ca
GEO:64.0612384;-139.4353633
X-APPLE-STRUCTURED-LOCATION;VALUE=URI;X-ADDRESS=KIAC Ballroom 902 Second Avenue Dawson City YT Y0B 1G0 Canada;X-APPLE-RADIUS=500;X-TITLE=902 Second Avenue:geo:-139.4353633,64.0612384
END:VEVENT
END:VCALENDAR