BEGIN:VCALENDAR
VERSION:2.0
PRODID:-//Dawson City Yukon - ECPv6.15.20//NONSGML v1.0//EN
CALSCALE:GREGORIAN
METHOD:PUBLISH
X-WR-CALNAME:Dawson City Yukon
X-ORIGINAL-URL:https://dawsoncity.ca
X-WR-CALDESC:Events for Dawson City Yukon
REFRESH-INTERVAL;VALUE=DURATION:PT1H
X-Robots-Tag:noindex
X-PUBLISHED-TTL:PT1H
BEGIN:VTIMEZONE
TZID:America/Whitehorse
BEGIN:STANDARD
TZOFFSETFROM:-0700
TZOFFSETTO:-0700
TZNAME:MST
DTSTART:20240101T000000
END:STANDARD
END:VTIMEZONE
BEGIN:VTIMEZONE
TZID:UTC
BEGIN:STANDARD
TZOFFSETFROM:+0000
TZOFFSETTO:+0000
TZNAME:UTC
DTSTART:20240101T000000
END:STANDARD
END:VTIMEZONE
BEGIN:VEVENT
DTSTART;TZID=America/Whitehorse:20251205T190000
DTEND;TZID=America/Whitehorse:20251205T210000
DTSTAMP:20260423T065203
CREATED:20251201T212633Z
LAST-MODIFIED:20260316T121731Z
UID:10000352-1764961200-1764968400@dawsoncity.ca
SUMMARY:Glass Painting Night
DESCRIPTION:Events\nEvent Details\n\nTime: December 12\, 2025 @ 7:00 pm – December 12\, 2025 @ 9:00 pm\n\nCost: \n\nVenue: ODD Gallery\n\nAddress: 902 Second Avenue\, Dawson City\, Yukon\, Canada\n\nPhone: \n\nCreate two personalized goblet-style glasses at this glass painting event! You'll be supplied with two glasses\, professional glass paints (can be oven cured for dishwasher safe)\, an artist guide\, and all the equipment and materials to create the perfect one-of-a-kind gift for your favourite person this holiday season. Treats and beverages will also be provided! \nTickets ($50) are limited! Book your spot beforehand:DoubleDenimTattoo@gmail.com
URL:https://dawsoncity.ca/event/glass-painting-night/
LOCATION:Double Denim Tattoo\, 1047 2nd Avenue\, Dawson City\, Yukon\, Canada
CATEGORIES:Arts and Culture
ATTACH;FMTTYPE=image/png:https://dawsoncity.ca/wp-content/uploads/2025/12/Paint-Night-2.png
END:VEVENT
BEGIN:VEVENT
DTSTART;TZID=UTC:20251212T190000
DTEND;TZID=UTC:20251212T210000
DTSTAMP:20260423T065203
CREATED:20251201T222336Z
LAST-MODIFIED:20260316T121736Z
UID:10000355-1765566000-1765573200@dawsoncity.ca
SUMMARY:Drawlidays Exhibition Opening
DESCRIPTION:Events\nEvent Details\n\nTime: December 12\, 2025 @ 7:00 pm – December 12\, 2025 @ 9:00 pm\n\nCost: \n\nVenue: ODD Gallery\n\nAddress: 902 Second Avenue\, Dawson City\, Yukon\, Canada\n\nPhone: \nView Web SiteDrawlidays is back! The ODD Gallery is hosting its favourite community art exhibit... Where the art on the walls are from a town-wide Secret Santa portrait exchange! Come see the faces of Dawson City through the eyes of its artists. Come mingle with the muses who inspired the artworks and share some holiday cheer! \nThe exhibition will be on from December 12th - 19th. Swing by the gallery to see the portraits before their new owners take them home!
URL:https://dawsoncity.ca/event/drawlidays/
LOCATION:ODD Gallery\, 902 Second Avenue\, Dawson City\, Yukon\, Canada
CATEGORIES:Arts and Culture,Free Event
ATTACH;FMTTYPE=image/png:https://dawsoncity.ca/wp-content/uploads/2025/12/Drawlidays-2.png
ORGANIZER;CN="Klondike Institute of Art & Culture":MAILTO:kiac@kiac.ca
END:VEVENT
BEGIN:VEVENT
DTSTART;TZID=America/Whitehorse:20251213T190000
DTEND;TZID=America/Whitehorse:20251213T210000
DTSTAMP:20260423T065203
CREATED:20251201T213722Z
LAST-MODIFIED:20260316T121732Z
UID:10000353-1765652400-1765659600@dawsoncity.ca
SUMMARY:Festive Paint Night
DESCRIPTION:Events\nEvent Details\n\nTime: December 12\, 2025 @ 7:00 pm – December 12\, 2025 @ 9:00 pm\n\nCost: \n\nVenue: ODD Gallery\n\nAddress: 902 Second Avenue\, Dawson City\, Yukon\, Canada\n\nPhone: \n\nGet into the Christmas spirit with a paint night this December! You'll be supplied with all the equipment and materials you need create some charming festive decor or the perfect one-of-a-kind gift for your loved one this holiday season. Treats and beverages will also be provided! \nTickets ($75) are limited! Book your spot beforehand:DoubleDenimTattoo@gmail.com
URL:https://dawsoncity.ca/event/festive-paint-night/
LOCATION:Double Denim Tattoo\, 1047 2nd Avenue\, Dawson City\, Yukon\, Canada
CATEGORIES:Arts and Culture
ATTACH;FMTTYPE=image/png:https://dawsoncity.ca/wp-content/uploads/2025/12/Paint-Night-2.png
END:VEVENT
END:VCALENDAR