BEGIN:VCALENDAR
VERSION:2.0
PRODID:-//Dawson City Yukon - ECPv6.15.20//NONSGML v1.0//EN
CALSCALE:GREGORIAN
METHOD:PUBLISH
X-ORIGINAL-URL:https://dawsoncity.ca
X-WR-CALDESC:Events for Dawson City Yukon
REFRESH-INTERVAL;VALUE=DURATION:PT1H
X-Robots-Tag:noindex
X-PUBLISHED-TTL:PT1H
BEGIN:VTIMEZONE
TZID:America/Whitehorse
BEGIN:STANDARD
TZOFFSETFROM:-0700
TZOFFSETTO:-0700
TZNAME:MST
DTSTART:20230101T000000
END:STANDARD
END:VTIMEZONE
BEGIN:VTIMEZONE
TZID:UTC
BEGIN:STANDARD
TZOFFSETFROM:+0000
TZOFFSETTO:+0000
TZNAME:UTC
DTSTART:20230101T000000
END:STANDARD
END:VTIMEZONE
BEGIN:VEVENT
DTSTART;TZID=America/Whitehorse:20241005T213000
DTEND;TZID=America/Whitehorse:20241006T010000
DTSTAMP:20260421T044521
CREATED:20241001T231225Z
LAST-MODIFIED:20260316T121655Z
UID:10000314-1728163800-1728176400@dawsoncity.ca
SUMMARY:Big Leisure
DESCRIPTION:Events\nEvent Details\n\nTime: February 7 @ 7:00 pm – February 7 @ 11:30 pm\n\nCost: \n\nVenue: Diamond Tooth Gerties Gambling Hall\n\nAddress: Corner of Fourth Avenue and Queen Street\, Dawson City\, Yukon\, Y0B1G0\, Canada\n\nPhone: 867-993-5575\nView Web SiteGet ready to rock on October 5th with Big Leisure! Dive into an ultimate night of high-energy performances as this electrifying cover band brings your favorite rock anthems to life. From classic hits to modern favorites\, Big Leisure will have you singing and dancing all night long. Good time guaranteed. 
URL:https://dawsoncity.ca/event/bigleisure/
LOCATION:Diamond Tooth Gerties Gambling Hall\, Corner of Fourth Avenue and Queen Street\, Dawson City\, Yukon\, Y0B1G0\, Canada
CATEGORIES:Entertainment-Nightlife,Gerties
ATTACH;FMTTYPE=image/png:https://dawsoncity.ca/wp-content/uploads/2024/10/BigLeisure_Gerties-small-1.png
GEO:64.0614231;-139.4310005
X-APPLE-STRUCTURED-LOCATION;VALUE=URI;X-ADDRESS=Diamond Tooth Gerties Gambling Hall Corner of Fourth Avenue and Queen Street Dawson City Yukon Y0B1G0 Canada;X-APPLE-RADIUS=500;X-TITLE=Corner of Fourth Avenue and Queen Street:geo:-139.4310005,64.0614231
END:VEVENT
BEGIN:VEVENT
DTSTART;TZID=America/Whitehorse:20241012T210000
DTEND;TZID=America/Whitehorse:20241013T010000
DTSTAMP:20260421T044522
CREATED:20241001T235731Z
LAST-MODIFIED:20260316T121656Z
UID:10000315-1728766800-1728781200@dawsoncity.ca
SUMMARY:Amy & Friends
DESCRIPTION:Events\nEvent Details\n\nTime: February 7 @ 7:00 pm – February 7 @ 11:30 pm\n\nCost: \n\nVenue: Diamond Tooth Gerties Gambling Hall\n\nAddress: Corner of Fourth Avenue and Queen Street\, Dawson City\, Yukon\, Y0B1G0\, Canada\n\nPhone: 867-993-5575\nView Web SiteLive music with Amy & Friends!
URL:https://dawsoncity.ca/event/amyandfriends/
LOCATION:Diamond Tooth Gerties Gambling Hall\, Corner of Fourth Avenue and Queen Street\, Dawson City\, Yukon\, Y0B1G0\, Canada
CATEGORIES:Entertainment-Nightlife,Gerties
ATTACH;FMTTYPE=image/png:https://dawsoncity.ca/wp-content/uploads/2024/10/AmyFriends-3-small.png
GEO:64.0614231;-139.4310005
X-APPLE-STRUCTURED-LOCATION;VALUE=URI;X-ADDRESS=Diamond Tooth Gerties Gambling Hall Corner of Fourth Avenue and Queen Street Dawson City Yukon Y0B1G0 Canada;X-APPLE-RADIUS=500;X-TITLE=Corner of Fourth Avenue and Queen Street:geo:-139.4310005,64.0614231
END:VEVENT
BEGIN:VEVENT
DTSTART;TZID=UTC:20241017T193000
DTEND;TZID=UTC:20241017T220000
DTSTAMP:20260421T044522
CREATED:20241017T210254Z
LAST-MODIFIED:20260316T121657Z
UID:10000316-1729193400-1729202400@dawsoncity.ca
SUMMARY:Nico Paulo with guest Jared Klok
DESCRIPTION:Events
URL:https://dawsoncity.ca/event/nico-paulo-with-guest-jared-klok/
LOCATION:KIAC Ballroom\, 902 Second Avenue\, Dawson City\, YT\, Y0B 1G0\, Canada
CATEGORIES:Arts and Culture,Entertainment-Nightlife
ATTACH;FMTTYPE=image/jpeg:https://dawsoncity.ca/wp-content/uploads/2024/10/nico-paulo-square.jpg
GEO:64.0612384;-139.4353633
X-APPLE-STRUCTURED-LOCATION;VALUE=URI;X-ADDRESS=KIAC Ballroom 902 Second Avenue Dawson City YT Y0B 1G0 Canada;X-APPLE-RADIUS=500;X-TITLE=902 Second Avenue:geo:-139.4353633,64.0612384
END:VEVENT
BEGIN:VEVENT
DTSTART;TZID=UTC:20241025T180000
DTEND;TZID=UTC:20241025T210000
DTSTAMP:20260421T044522
CREATED:20241017T214323Z
LAST-MODIFIED:20260316T121700Z
UID:10000319-1729879200-1729890000@dawsoncity.ca
SUMMARY:Food and Film Night
DESCRIPTION:Events\nEvent Details\n\nTime: February 7 @ 7:00 pm – February 7 @ 11:30 pm\n\nCost: \n\nVenue: Diamond Tooth Gerties Gambling Hall\n\nAddress: Corner of Fourth Avenue and Queen Street\, Dawson City\, Yukon\, Y0B1G0\, Canada\n\nPhone: 867-993-5575\nView Web SiteJoin us for our annual Food & Film Night. An evening of local food and film.\nA fundraiser for the Dawson City. \nCome out and feast on lasagna made by some of Dawson City’s best chefs.  Vote for your favorite! \nDinner will be followed by a screening of short films by Dawson City filmmakers. See films by the likes of Allain/Klok\, Death Shepard\, Eastbound\, Hunt\, Keating\, Kendrick\, Maratos\, O’Grady\, Rensch\, Sokolowski\, VanEvery/Lindgren \nDinner at 6pm. Films at 7pm$20 (cash bar)Prizes supplied by Bombay Peggy’s and Bonanza Market.
URL:https://dawsoncity.ca/event/food-and-film-night/
LOCATION:KIAC Ballroom\, 902 Second Avenue\, Dawson City\, YT\, Y0B 1G0\, Canada
CATEGORIES:Arts and Culture,Entertainment-Nightlife
ATTACH;FMTTYPE=image/png:https://dawsoncity.ca/wp-content/uploads/2024/10/lasagna_square.png
GEO:64.0612384;-139.4353633
X-APPLE-STRUCTURED-LOCATION;VALUE=URI;X-ADDRESS=KIAC Ballroom 902 Second Avenue Dawson City YT Y0B 1G0 Canada;X-APPLE-RADIUS=500;X-TITLE=902 Second Avenue:geo:-139.4353633,64.0612384
END:VEVENT
END:VCALENDAR