BEGIN:VCALENDAR
VERSION:2.0
PRODID:-//Dawson City Yukon - ECPv6.15.20//NONSGML v1.0//EN
CALSCALE:GREGORIAN
METHOD:PUBLISH
X-ORIGINAL-URL:https://dawsoncity.ca
X-WR-CALDESC:Events for Dawson City Yukon
REFRESH-INTERVAL;VALUE=DURATION:PT1H
X-Robots-Tag:noindex
X-PUBLISHED-TTL:PT1H
BEGIN:VTIMEZONE
TZID:UTC
BEGIN:STANDARD
TZOFFSETFROM:+0000
TZOFFSETTO:+0000
TZNAME:UTC
DTSTART:20250101T000000
END:STANDARD
END:VTIMEZONE
BEGIN:VEVENT
DTSTART;TZID=UTC:20260131T140000
DTEND;TZID=UTC:20260131T170000
DTSTAMP:20260422T051516
CREATED:20251201T225221Z
LAST-MODIFIED:20260316T121739Z
UID:10000357-1769868000-1769878800@dawsoncity.ca
SUMMARY:Dawson City Ice Bowl
DESCRIPTION:disc golf\nEvent Details\n\nTime: January 31 @ 2:00 pm – January 31 @ 5:00 pm\n\nCost: \n\nVenue: Crocus Bluff Disc Golf Course\n\nAddress: Mary McLeod rd\, Dawson City\, Yukon\n\nPhone: \nView Web Site\nJoin us for the coolest round of the year! \nThe Dawson City Ice Bowl is a winter disc golf challenge where players of all levels are welcome to brave the cold and compete for a great cause. Entry is by donation ($25 suggested) plus a non-perishable food item\, with all proceeds going directly to the Dawson City Food Bank. \nBring your discs\, bundle up\, and experience the unique joy of winter disc golf under the Klondike sky! \nRegister now at www.DiscGolfScene.com
URL:https://dawsoncity.ca/event/dawson-city-ice-bowl/
LOCATION:Crocus Bluff Disc Golf Course\, Mary McLeod rd\, Dawson City\, Yukon
CATEGORIES:Recreation
ATTACH;FMTTYPE=image/png:https://dawsoncity.ca/wp-content/uploads/2025/12/Ice-Bowl-2.png
ORGANIZER;CN="City of Dawson Recreation Department":MAILTO:paul.robitaille@cityofdawson.ca
END:VEVENT
END:VCALENDAR