BEGIN:VCALENDAR
VERSION:2.0
PRODID:-//Dawson City Yukon - ECPv6.15.20//NONSGML v1.0//EN
CALSCALE:GREGORIAN
METHOD:PUBLISH
X-WR-CALNAME:Dawson City Yukon
X-ORIGINAL-URL:https://dawsoncity.ca
X-WR-CALDESC:Events for Dawson City Yukon
REFRESH-INTERVAL;VALUE=DURATION:PT1H
X-Robots-Tag:noindex
X-PUBLISHED-TTL:PT1H
BEGIN:VTIMEZONE
TZID:UTC
BEGIN:STANDARD
TZOFFSETFROM:+0000
TZOFFSETTO:+0000
TZNAME:UTC
DTSTART:20240101T000000
END:STANDARD
END:VTIMEZONE
BEGIN:VEVENT
DTSTART;TZID=UTC:20251212T190000
DTEND;TZID=UTC:20251212T210000
DTSTAMP:20260421T154227
CREATED:20251201T222336Z
LAST-MODIFIED:20260316T121736Z
UID:10000355-1765566000-1765573200@dawsoncity.ca
SUMMARY:Drawlidays Exhibition Opening
DESCRIPTION:Events\nEvent Details\n\nTime: April 17 @ 7:30 pm – April 17 @ 10:00 pm\n\nCost: \n\nVenue: KIAC Ballroom\n\nAddress: 902 Second Avenue\, Dawson City\, YT\, Y0B 1G0\, Canada\n\nPhone: (867) 993-5005\nView Web SiteDrawlidays is back! The ODD Gallery is hosting its favourite community art exhibit... Where the art on the walls are from a town-wide Secret Santa portrait exchange! Come see the faces of Dawson City through the eyes of its artists. Come mingle with the muses who inspired the artworks and share some holiday cheer! \nThe exhibition will be on from December 12th - 19th. Swing by the gallery to see the portraits before their new owners take them home!
URL:https://dawsoncity.ca/event/drawlidays/
LOCATION:ODD Gallery\, 902 Second Avenue\, Dawson City\, Yukon\, Canada
CATEGORIES:Arts and Culture,Free Event
ATTACH;FMTTYPE=image/png:https://dawsoncity.ca/wp-content/uploads/2025/12/Drawlidays-2.png
ORGANIZER;CN="Klondike Institute of Art & Culture":MAILTO:kiac@kiac.ca
END:VEVENT
END:VCALENDAR