BEGIN:VCALENDAR
VERSION:2.0
PRODID:-//Dawson City Yukon - ECPv6.15.20//NONSGML v1.0//EN
CALSCALE:GREGORIAN
METHOD:PUBLISH
X-WR-CALNAME:Dawson City Yukon
X-ORIGINAL-URL:https://dawsoncity.ca
X-WR-CALDESC:Events for Dawson City Yukon
REFRESH-INTERVAL;VALUE=DURATION:PT1H
X-Robots-Tag:noindex
X-PUBLISHED-TTL:PT1H
BEGIN:VTIMEZONE
TZID:UTC
BEGIN:STANDARD
TZOFFSETFROM:+0000
TZOFFSETTO:+0000
TZNAME:UTC
DTSTART:20210101T000000
END:STANDARD
END:VTIMEZONE
BEGIN:VEVENT
DTSTART;TZID=UTC:20221208T193000
DTEND;TZID=UTC:20221208T220000
DTSTAMP:20260423T160248
CREATED:20221020T070251Z
LAST-MODIFIED:20260316T121440Z
UID:10000128-1670527800-1670536800@dawsoncity.ca
SUMMARY:The Cremation of Sam McGee Opera
DESCRIPTION:Events\nEvent Details\n\nTime: April 29 @ 7:30 pm – April 29 @ 10:00 pm\n\nCost: \n\nVenue: KIAC Ballroom\n\nAddress: 902 Second Avenue\, Dawson City\, YT\, Y0B 1G0\, Canada\n\nPhone: (867) 993-5005\nThis exciting opera-in-development composed by Mattew Ricketts and librettist Royce Vavrek is an adaption of the poem The Cremation of Sam Mcgee and is further inspired by the work of Robert Service. The opera is not only a dramatization of Service's incredible account of life in the north but also investigates other moments of fraternity and industry in Canada's northwest. \nA small cast of four men will play multiple roles\, as they regale tales of northern living\, as one might share over a campfire. The retelling of these tales takes place through narrative strands that explore many unique character types and experiences\, set in familiar scenes from contemporary northern living and intermixed with scenes inspired directly by Robert Serice's poem\, The Cremation of Sam Mcgee. \nPerformances by: Peter Monaghan (bass-baritone)\, Micah Schroeder (baritone)\, Elias Theocharidis (tenor) and Sean Haid (countertenor). \nJoin of for an incredible evening of Northern Storytelling\, sure to warm your heart in the cold of winter. \nDoors open: 7:30\nShowtime: 8:00 \nCabaret seating & cash bar. \nFor more information visit KIAC.ca
URL:https://dawsoncity.ca/event/the-french-connection/
LOCATION:KIAC Ballroom\, 902 Second Avenue\, Dawson City\, YT\, Y0B 1G0\, Canada
CATEGORIES:Arts and Culture,Entertainment-Nightlife,Free Event
ATTACH;FMTTYPE=image/jpeg:https://dawsoncity.ca/wp-content/uploads/2022/10/Sam-McGee-Opera-feature-square.jpg
ORGANIZER;CN="Klondike Institute of Art & Culture":MAILTO:kiac@kiac.ca
GEO:64.0612384;-139.4353633
X-APPLE-STRUCTURED-LOCATION;VALUE=URI;X-ADDRESS=KIAC Ballroom 902 Second Avenue Dawson City YT Y0B 1G0 Canada;X-APPLE-RADIUS=500;X-TITLE=902 Second Avenue:geo:-139.4353633,64.0612384
END:VEVENT
END:VCALENDAR