BEGIN:VCALENDAR
VERSION:2.0
PRODID:-//Dawson City Yukon - ECPv6.15.20//NONSGML v1.0//EN
CALSCALE:GREGORIAN
METHOD:PUBLISH
X-ORIGINAL-URL:https://dawsoncity.ca
X-WR-CALDESC:Events for Dawson City Yukon
REFRESH-INTERVAL;VALUE=DURATION:PT1H
X-Robots-Tag:noindex
X-PUBLISHED-TTL:PT1H
BEGIN:VTIMEZONE
TZID:America/Whitehorse
BEGIN:STANDARD
TZOFFSETFROM:-0700
TZOFFSETTO:-0700
TZNAME:MST
DTSTART:20250101T000000
END:STANDARD
END:VTIMEZONE
BEGIN:VEVENT
DTSTART;VALUE=DATE:20260305
DTEND;VALUE=DATE:20260309
DTSTAMP:20260420T013826
CREATED:20221206T185928Z
LAST-MODIFIED:20260316T121511Z
UID:10000176-1772679600-1772938799@dawsoncity.ca
SUMMARY:Percy DeWolfe Memorial Mail Run
DESCRIPTION:Percy DeWolfe Memorial Mail Race \nEvent Details\n\nTime: February 14 @ 7:00 pm – February 14 @ 11:30 pm\n\nCost: \n\nVenue: Diamond Tooth Gerties Gambling Hall\n\nAddress: Corner of Fourth Avenue and Queen Street\, Dawson City\, Yukon\, Y0B1G0\, Canada\n\nPhone: 867-993-5575\nView Web SitePercy DeWolfe arrived in the Yukon in 1989\, only to find all of the good claims for gold were already taken. After a decade of fishing along the Yukon River\, the hardy Dawson character began to deliver the mail between Eagle\, Alaskas and Dawson City\, Yukon in 1910 - 1949. \nPercy carried mail by dog team\, horse\, and by boat year round. Battling ice flows during freeze up and break up\, and the extreme winter weather in temperature of -50 below\, losing dogs and horse teams to the unforgiving elements.  Percy served his community courageously and in 1977 the first Percy DeWolfe Memorial Mail Race was held to commemorate his legacy and service.  \nThe Percy DeWolfe Memorial Mail Race reserves the first official start time of 10:00 in honour of Percy DeWolfe\, and the first race musher to “follow Percy” at 10:02 carries a bag of mail from Dawson to Eagle. You can be apart of honouring our history by purchasing an official Percy DeWolfe letter\, which will be sent in this first bag of mail. \nDowntown Hotel
URL:https://dawsoncity.ca/event/percy-dewolfe-memorial-mail-run/
LOCATION:Yukon
CATEGORIES:Arts and Culture,Wilderness
ATTACH;FMTTYPE=image/jpeg:https://dawsoncity.ca/wp-content/uploads/2020/10/percy-de-wolfe-feature.jpg
END:VEVENT
BEGIN:VEVENT
DTSTART;TZID=America/Whitehorse:20260214T190000
DTEND;TZID=America/Whitehorse:20260214T233000
DTSTAMP:20260420T013827
CREATED:20260130T200932Z
LAST-MODIFIED:20260316T121748Z
UID:10000361-1771095600-1771111800@dawsoncity.ca
SUMMARY:Yukon's Legends Variety Show: Percy DeWolfe Memorial Mail Race Fundraiser
DESCRIPTION:Percy DeWolfe Memorial Mail Race \nEvent Details\n\nTime: February 14 @ 7:00 pm – February 14 @ 11:30 pm\n\nCost: \n\nVenue: Diamond Tooth Gerties Gambling Hall\n\nAddress: Corner of Fourth Avenue and Queen Street\, Dawson City\, Yukon\, Y0B1G0\, Canada\n\nPhone: 867-993-5575\nView Web SiteThe Dawson City Dog Sports Club proudly presents... The Yukon's Legends Variety Show! \nTo raise funds for the 50th Percy DeWolfe Memorial Mail Race\, a lineup of legendary Yukon artists will be performing on the Diamond Tooth Gerties stage for one night of music\, dancing\, burlesque\, and more! All proceeds from this event will go to the Dawson City Dog Sports Club. \nHistory of the Percy DeWolfe Memorial Mail RacePercy DeWolfe arrived in the Yukon in 1989\, only to find all of the good claims for gold were already taken. After a decade of fishing along the Yukon River\, the hardy Dawson character began to deliver the mail between Eagle\, Alaska and Dawson City\, Yukon in 1910 - 1949. Percy carried mail by dog team\, horse\, and by boat year round. Battling ice flows during freeze up and break up\, and the extreme winter weather in temperature of -50 below. Percy served his community courageously and in 1977\, the first Percy DeWolfe Memorial Mail Race was held to commemorate his legacy and service. The Dawson City Dog Sports Club\, a non-profit organization\, hosts the race and ensures that Percy's legacy is remembered and celebrated to this day. \nDowntown Hotel
URL:https://dawsoncity.ca/event/yukon-legends-variety-show/
LOCATION:Diamond Tooth Gerties Gambling Hall\, Corner of Fourth Avenue and Queen Street\, Dawson City\, Yukon\, Y0B1G0\, Canada
CATEGORIES:Arts and Culture,Entertainment-Nightlife,Gerties
ATTACH;FMTTYPE=image/jpeg:https://dawsoncity.ca/wp-content/uploads/2026/01/Percy-Fundraiser-2.jpg
ORGANIZER;CN="Percy DeWolfe Memorial Race":MAILTO:info@thepercy.com
GEO:64.0614231;-139.4310005
X-APPLE-STRUCTURED-LOCATION;VALUE=URI;X-ADDRESS=Diamond Tooth Gerties Gambling Hall Corner of Fourth Avenue and Queen Street Dawson City Yukon Y0B1G0 Canada;X-APPLE-RADIUS=500;X-TITLE=Corner of Fourth Avenue and Queen Street:geo:-139.4310005,64.0614231
END:VEVENT
END:VCALENDAR