BEGIN:VCALENDAR
VERSION:2.0
PRODID:-//Dawson City Yukon - ECPv6.15.20//NONSGML v1.0//EN
CALSCALE:GREGORIAN
METHOD:PUBLISH
X-ORIGINAL-URL:https://dawsoncity.ca
X-WR-CALDESC:Events for Dawson City Yukon
REFRESH-INTERVAL;VALUE=DURATION:PT1H
X-Robots-Tag:noindex
X-PUBLISHED-TTL:PT1H
BEGIN:VTIMEZONE
TZID:UTC
BEGIN:STANDARD
TZOFFSETFROM:+0000
TZOFFSETTO:+0000
TZNAME:UTC
DTSTART:20250101T000000
END:STANDARD
END:VTIMEZONE
BEGIN:VEVENT
DTSTART;TZID=UTC:20260122T193000
DTEND;TZID=UTC:20260122T220000
DTSTAMP:20260421T184656
CREATED:20260116T211601Z
LAST-MODIFIED:20260316T121747Z
UID:10000360-1769110200-1769119200@dawsoncity.ca
SUMMARY:DCMF Songwriter-in-Residence: Naomi Kavka with Jordy Walker
DESCRIPTION:Events\nEvent Details\n\nTime: April 17 @ 7:30 pm – April 17 @ 10:00 pm\n\nCost: \n\nVenue: KIAC Ballroom\n\nAddress: 902 Second Avenue\, Dawson City\, YT\, Y0B 1G0\, Canada\n\nPhone: (867) 993-5005\nLearn MoreJoin us for a musical evening in the KIAC Ballroom!\n \nNaomi Kavka is a songwriter and multi-instrumentalist from Smithers\, BC. A classically trained cellist\, vocalist\, and guitar player\, Kavka brings a myriad of influences to her songs\, forming a daring indie-rock sound that is musically polished\, lyrically visceral\, and emotionally raw. Her songs come from the unique perspective of a queer woman\, a child of a refugee\, a resident of the precipice of the wilderness of Canada. Kavka's latest album\, Then and Now (2024)\, is a collection of 8 songs produced by Jordy Walker. Ranging from driving indie jams\, melancholic ballads\, snarky anthems\, and art rock improvisations\, Then and Now demonstrates Kavka's fearlessness and range as a performer and songwriter.\n \nJordy Walker (he/him) is a musician\, composer\, record producer\, and sound artist based in Whitehorse\, Yukon. He has produced over 50 records and worked on an equal number of films\, theatre and contemporary dance pieces.\n \nRSVP on Facebook HERE
URL:https://dawsoncity.ca/event/naomi-kavka-with-jordy-walker/
LOCATION:KIAC Ballroom\, 902 Second Avenue\, Dawson City\, YT\, Y0B 1G0\, Canada
CATEGORIES:Arts and Culture,Entertainment-Nightlife
ATTACH;FMTTYPE=image/jpeg:https://dawsoncity.ca/wp-content/uploads/2026/01/Naomi-1.jpg
ORGANIZER;CN="Klondike Institute of Art & Culture":MAILTO:kiac@kiac.ca
GEO:64.0612384;-139.4353633
X-APPLE-STRUCTURED-LOCATION;VALUE=URI;X-ADDRESS=KIAC Ballroom 902 Second Avenue Dawson City YT Y0B 1G0 Canada;X-APPLE-RADIUS=500;X-TITLE=902 Second Avenue:geo:-139.4353633,64.0612384
END:VEVENT
END:VCALENDAR