BEGIN:VCALENDAR
VERSION:2.0
PRODID:-//Dawson City Yukon - ECPv6.15.20//NONSGML v1.0//EN
CALSCALE:GREGORIAN
METHOD:PUBLISH
X-ORIGINAL-URL:https://dawsoncity.ca
X-WR-CALDESC:Events for Dawson City Yukon
REFRESH-INTERVAL;VALUE=DURATION:PT1H
X-Robots-Tag:noindex
X-PUBLISHED-TTL:PT1H
BEGIN:VTIMEZONE
TZID:UTC
BEGIN:STANDARD
TZOFFSETFROM:+0000
TZOFFSETTO:+0000
TZNAME:UTC
DTSTART:20240101T000000
END:STANDARD
END:VTIMEZONE
BEGIN:VEVENT
DTSTART;TZID=UTC:20251207T120000
DTEND;TZID=UTC:20251207T150000
DTSTAMP:20260422T094325
CREATED:20221108T210902Z
LAST-MODIFIED:20260316T121506Z
UID:10000102-1765108800-1765119600@dawsoncity.ca
SUMMARY:Pet Pictures With Santa
DESCRIPTION:Events\nEvent Details\n\nTime: December 7\, 2025 @ 12:00 pm – December 7\, 2025 @ 3:00 pm\n\nCost: \n\nVenue: Visitors Information Centre (VIC)\n\nAddress: 1102 Front Street\, Dawson City\, YT\, Y0B 1G0\, Canada\n\nPhone: \n\n\nPet Pictures with Santa is back!\n\n\n\n\n \nCome take your Christmas photo with your furry friend(s) and our beloved Santa Claus!  Get into the festive spirit\, create an image for your holiday card\, and support Humane Society Dawson at the most adorable fundraiser of the year.\n\n \nPhotos are $15 (cash only)\nAll pets must be on leash or in a carrier
URL:https://dawsoncity.ca/event/pet-pictures-with-santa/
LOCATION:Visitors Information Centre (VIC)\, 1102 Front Street\, Dawson City\, YT\, Y0B 1G0\, Canada
CATEGORIES:Arts and Culture,Family Friendly Event
ATTACH;FMTTYPE=image/png:https://dawsoncity.ca/wp-content/uploads/2025/11/Santa-Pet-Portraits.png
GEO:64.0620983;-139.436064
X-APPLE-STRUCTURED-LOCATION;VALUE=URI;X-ADDRESS=Visitors Information Centre (VIC) 1102 Front Street Dawson City YT Y0B 1G0 Canada;X-APPLE-RADIUS=500;X-TITLE=1102 Front Street:geo:-139.436064,64.0620983
END:VEVENT
END:VCALENDAR