BEGIN:VCALENDAR
VERSION:2.0
PRODID:-//Dawson City Yukon - ECPv6.15.20//NONSGML v1.0//EN
CALSCALE:GREGORIAN
METHOD:PUBLISH
X-WR-CALNAME:Dawson City Yukon
X-ORIGINAL-URL:https://dawsoncity.ca
X-WR-CALDESC:Events for Dawson City Yukon
REFRESH-INTERVAL;VALUE=DURATION:PT1H
X-Robots-Tag:noindex
X-PUBLISHED-TTL:PT1H
BEGIN:VTIMEZONE
TZID:America/Los_Angeles
BEGIN:DAYLIGHT
TZOFFSETFROM:-0800
TZOFFSETTO:-0700
TZNAME:PDT
DTSTART:20240310T100000
END:DAYLIGHT
BEGIN:STANDARD
TZOFFSETFROM:-0700
TZOFFSETTO:-0800
TZNAME:PST
DTSTART:20241103T090000
END:STANDARD
BEGIN:DAYLIGHT
TZOFFSETFROM:-0800
TZOFFSETTO:-0700
TZNAME:PDT
DTSTART:20250309T100000
END:DAYLIGHT
BEGIN:STANDARD
TZOFFSETFROM:-0700
TZOFFSETTO:-0800
TZNAME:PST
DTSTART:20251102T090000
END:STANDARD
BEGIN:DAYLIGHT
TZOFFSETFROM:-0800
TZOFFSETTO:-0700
TZNAME:PDT
DTSTART:20260308T100000
END:DAYLIGHT
BEGIN:STANDARD
TZOFFSETFROM:-0700
TZOFFSETTO:-0800
TZNAME:PST
DTSTART:20261101T090000
END:STANDARD
END:VTIMEZONE
BEGIN:VEVENT
DTSTART;TZID=America/Los_Angeles:20251221T150000
DTEND;TZID=America/Los_Angeles:20251221T180000
DTSTAMP:20260422T064217
CREATED:20241129T222313Z
LAST-MODIFIED:20260316T121703Z
UID:10000324-1766329200-1766340000@dawsoncity.ca
SUMMARY:Christmas Tree Ski
DESCRIPTION:skiing\nEvent Details\n\nTime: December 5\, 2025 @ 6:00 pm – December 5\, 2025 @ 8:00 pm\n\nCost: \n\nVenue: Moose Mountain\n\nAddress: Dome Road\, Dawson City\, YT\, Y0B1G0\, Canada\n\nPhone: \nCome celebrate Winter Solstice magic on the Moose Mountain Cross Country Ski Trails!\n \nFollow the lights to ski\, snowshoe\, walk\, or kicksled along candle-lit trails. There will even be a woodland scavenger hunt and bonfire! Bundle up\, take along a mug for hot chocolate\, and bring a decoration for the tree!\n \n-30º C cut-off temperature\n\n  \nFor more information\, contact:admin@katts.caLolita - (867)687-2916 \n\n \n \n 
URL:https://dawsoncity.ca/event/christmas-tree-ski/
LOCATION:Moose Mountain\, Dome Road\, Dawson City\, YT\, Y0B1G0\, Canada
CATEGORIES:Family Friendly Event,Free Event,Recreation
ATTACH;FMTTYPE=image/png:https://dawsoncity.ca/wp-content/uploads/2024/11/Ski-2.png
ORGANIZER;CN="KATTS":MAILTO:admin@katts.ca
GEO:64.054958;-139.4051434
X-APPLE-STRUCTURED-LOCATION;VALUE=URI;X-ADDRESS=Moose Mountain Dome Road Dawson City YT Y0B1G0 Canada;X-APPLE-RADIUS=500;X-TITLE=Dome Road:geo:-139.4051434,64.054958
END:VEVENT
BEGIN:VEVENT
DTSTART;TZID=America/Los_Angeles:20251205T180000
DTEND;TZID=America/Los_Angeles:20251205T200000
DTSTAMP:20260422T064217
CREATED:20251201T215140Z
LAST-MODIFIED:20260316T121734Z
UID:10000354-1764957600-1764964800@dawsoncity.ca
SUMMARY:Full Moon Skiing
DESCRIPTION:skiing\nEvent Details\n\nTime: December 5\, 2025 @ 6:00 pm – December 5\, 2025 @ 8:00 pm\n\nCost: \n\nVenue: Moose Mountain\n\nAddress: Dome Road\, Dawson City\, YT\, Y0B1G0\, Canada\n\nPhone: \nCome celebrate winter magic with us on the Moose Mountain Cross-Country Ski Trails! All ages are welcome to go at their own pace on these beautifully moonlit trails... The toasty warm-up cabin awaits! Bring your own snacks and drinks. Sharing and socializing in encouraged!\n \nFor more information\, or to volunteer\, contact:\nadmin@katts.ca\n \n \n 
URL:https://dawsoncity.ca/event/full-moon-skiing/
LOCATION:Moose Mountain\, Dome Road\, Dawson City\, YT\, Y0B1G0\, Canada
CATEGORIES:Family Friendly Event,Free Event,Recreation,Wilderness
ATTACH;FMTTYPE=image/png:https://dawsoncity.ca/wp-content/uploads/2025/12/Full-Moon-Ski-2.png
ORGANIZER;CN="KATTS":MAILTO:admin@katts.ca
GEO:64.054958;-139.4051434
X-APPLE-STRUCTURED-LOCATION;VALUE=URI;X-ADDRESS=Moose Mountain Dome Road Dawson City YT Y0B1G0 Canada;X-APPLE-RADIUS=500;X-TITLE=Dome Road:geo:-139.4051434,64.054958
END:VEVENT
END:VCALENDAR