BEGIN:VCALENDAR
VERSION:2.0
PRODID:-//Dawson City Yukon - ECPv6.15.20//NONSGML v1.0//EN
CALSCALE:GREGORIAN
METHOD:PUBLISH
X-ORIGINAL-URL:https://dawsoncity.ca
X-WR-CALDESC:Events for Dawson City Yukon
REFRESH-INTERVAL;VALUE=DURATION:PT1H
X-Robots-Tag:noindex
X-PUBLISHED-TTL:PT1H
BEGIN:VTIMEZONE
TZID:America/Whitehorse
BEGIN:STANDARD
TZOFFSETFROM:-0700
TZOFFSETTO:-0700
TZNAME:MST
DTSTART:20230101T000000
END:STANDARD
END:VTIMEZONE
BEGIN:VTIMEZONE
TZID:UTC
BEGIN:STANDARD
TZOFFSETFROM:+0000
TZOFFSETTO:+0000
TZNAME:UTC
DTSTART:20190101T000000
END:STANDARD
END:VTIMEZONE
BEGIN:VEVENT
DTSTART;TZID=America/Whitehorse:20260320T190000
DTEND;TZID=America/Whitehorse:20260320T230000
DTSTAMP:20260421T200914
CREATED:20230210T183026Z
LAST-MODIFIED:20260316T121516Z
UID:10000197-1774033200-1774047600@dawsoncity.ca
SUMMARY:DCMF Lip Sync
DESCRIPTION:Diamond Tooth Gerties Gambling Hall\nEvent Details\n\nTime: April 21\, 2026 @ 8:09 pm – April 21\, 2026 @ 8:09 pm\n\nCost: \n\nVenue: Diamond Tooth Gerties Gambling Hall\n\nAddress: Corner of Fourth Avenue and Queen Street\, Dawson City\, Yukon\, Y0B1G0\, Canada\n\nPhone: 867-993-5575\nView Web Site\nDCMF presents the return of our legendary fundraiser\, LIP SYNC\, as part of the 2026 Thaw Di Gras Spring Carnival!\n \nNow is the time to start planning your best lip sync performances! Solos\, duos and groups are all welcome to compete for cash prizes and (more importantly) bragging rights. Can’t wait to see what you come up with!\n \nWe’ll be live onstage at Diamond Tooth Gerties thanks to the support of the Klondike Visitor’s Association. All proceeds raised are for the Dawson City Music Festival.\n \nDoors at 7pm\nBy donation ($20 suggested)To register\, email: info@dcmf.com
URL:https://dawsoncity.ca/event/dcmf-lip-sync/
LOCATION:Diamond Tooth Gerties Gambling Hall\, Corner of Fourth Avenue and Queen Street\, Dawson City\, Yukon\, Y0B1G0\, Canada
CATEGORIES:Arts and Culture,Entertainment-Nightlife
ATTACH;FMTTYPE=image/jpeg:https://dawsoncity.ca/wp-content/uploads/2023/02/Lip-Sync-2.jpg
GEO:64.0614231;-139.4310005
X-APPLE-STRUCTURED-LOCATION;VALUE=URI;X-ADDRESS=Diamond Tooth Gerties Gambling Hall Corner of Fourth Avenue and Queen Street Dawson City Yukon Y0B1G0 Canada;X-APPLE-RADIUS=500;X-TITLE=Corner of Fourth Avenue and Queen Street:geo:-139.4310005,64.0614231
END:VEVENT
BEGIN:VEVENT
DTSTART;TZID=America/Whitehorse:20260228T190000
DTEND;TZID=America/Whitehorse:20260228T230000
DTSTAMP:20260421T200914
CREATED:20230914T234754Z
LAST-MODIFIED:20260316T121625Z
UID:10000264-1772305200-1772319600@dawsoncity.ca
SUMMARY:Film Bingo: Dawson City Film Fest Fundraiser
DESCRIPTION:Diamond Tooth Gerties Gambling Hall\nEvent Details\n\nTime: April 21\, 2026 @ 8:09 pm – April 21\, 2026 @ 8:09 pm\n\nCost: \n\nVenue: Diamond Tooth Gerties Gambling Hall\n\nAddress: Corner of Fourth Avenue and Queen Street\, Dawson City\, Yukon\, Y0B1G0\, Canada\n\nPhone: 867-993-5575\nThe Dawson City International Short Film Festival (DCISFF) is back to bring you another fabulous fundraiser at Diamond Tooth Gerties! This time\, we're playing Film Bingo! \nPlay for the possibility to win some sweet prizes\, including KIAC/DCISFF merch\, a DCISFF weekend pass\, DCMF weekend passes\, or even an Air North ticket! Let's have some fun while supporting this year's Dawson City International Short Film Festival. \n​Doors at 7pmFilm Bingo at 8pm
URL:https://dawsoncity.ca/event/film-fest-fundraiser/
LOCATION:Diamond Tooth Gerties Gambling Hall\, Corner of Fourth Avenue and Queen Street\, Dawson City\, Yukon\, Y0B1G0\, Canada
CATEGORIES:Arts and Culture,Entertainment-Nightlife,Gerties
ATTACH;FMTTYPE=image/jpeg:https://dawsoncity.ca/wp-content/uploads/2023/09/Film-Fest-Fundraiser-2.jpg
GEO:64.0614231;-139.4310005
X-APPLE-STRUCTURED-LOCATION;VALUE=URI;X-ADDRESS=Diamond Tooth Gerties Gambling Hall Corner of Fourth Avenue and Queen Street Dawson City Yukon Y0B1G0 Canada;X-APPLE-RADIUS=500;X-TITLE=Corner of Fourth Avenue and Queen Street:geo:-139.4310005,64.0614231
END:VEVENT
BEGIN:VEVENT
DTSTART;TZID=America/Whitehorse:20260214T190000
DTEND;TZID=America/Whitehorse:20260214T233000
DTSTAMP:20260421T200914
CREATED:20260130T200932Z
LAST-MODIFIED:20260316T121748Z
UID:10000361-1771095600-1771111800@dawsoncity.ca
SUMMARY:Yukon's Legends Variety Show: Percy DeWolfe Memorial Mail Race Fundraiser
DESCRIPTION:Percy DeWolfe Memorial Mail Race \nEvent Details\n\nTime: April 21\, 2026 @ 8:09 pm – April 21\, 2026 @ 8:09 pm\n\nCost: \n\nVenue: Diamond Tooth Gerties Gambling Hall\n\nAddress: Corner of Fourth Avenue and Queen Street\, Dawson City\, Yukon\, Y0B1G0\, Canada\n\nPhone: 867-993-5575\nView Web SiteThe Dawson City Dog Sports Club proudly presents... The Yukon's Legends Variety Show! \nTo raise funds for the 50th Percy DeWolfe Memorial Mail Race\, a lineup of legendary Yukon artists will be performing on the Diamond Tooth Gerties stage for one night of music\, dancing\, burlesque\, and more! All proceeds from this event will go to the Dawson City Dog Sports Club. \nHistory of the Percy DeWolfe Memorial Mail RacePercy DeWolfe arrived in the Yukon in 1989\, only to find all of the good claims for gold were already taken. After a decade of fishing along the Yukon River\, the hardy Dawson character began to deliver the mail between Eagle\, Alaska and Dawson City\, Yukon in 1910 - 1949. Percy carried mail by dog team\, horse\, and by boat year round. Battling ice flows during freeze up and break up\, and the extreme winter weather in temperature of -50 below. Percy served his community courageously and in 1977\, the first Percy DeWolfe Memorial Mail Race was held to commemorate his legacy and service. The Dawson City Dog Sports Club\, a non-profit organization\, hosts the race and ensures that Percy's legacy is remembered and celebrated to this day.
URL:https://dawsoncity.ca/event/yukon-legends-variety-show/
LOCATION:Diamond Tooth Gerties Gambling Hall\, Corner of Fourth Avenue and Queen Street\, Dawson City\, Yukon\, Y0B1G0\, Canada
CATEGORIES:Arts and Culture,Entertainment-Nightlife,Gerties
ATTACH;FMTTYPE=image/jpeg:https://dawsoncity.ca/wp-content/uploads/2026/01/Percy-Fundraiser-2.jpg
ORGANIZER;CN="Percy DeWolfe Memorial Race":MAILTO:info@thepercy.com
GEO:64.0614231;-139.4310005
X-APPLE-STRUCTURED-LOCATION;VALUE=URI;X-ADDRESS=Diamond Tooth Gerties Gambling Hall Corner of Fourth Avenue and Queen Street Dawson City Yukon Y0B1G0 Canada;X-APPLE-RADIUS=500;X-TITLE=Corner of Fourth Avenue and Queen Street:geo:-139.4310005,64.0614231
END:VEVENT
BEGIN:VEVENT
DTSTART;TZID=America/Whitehorse:20260207T190000
DTEND;TZID=America/Whitehorse:20260207T233000
DTSTAMP:20260421T200914
CREATED:20260130T214252Z
LAST-MODIFIED:20260316T121750Z
UID:10000362-1770490800-1770507000@dawsoncity.ca
SUMMARY:Humane Society Dawson Fundraiser
DESCRIPTION:Percy DeWolfe Memorial Mail Race \nEvent Details\n\nTime: April 21\, 2026 @ 8:09 pm – April 21\, 2026 @ 8:09 pm\n\nCost: \n\nVenue: Diamond Tooth Gerties Gambling Hall\n\nAddress: Corner of Fourth Avenue and Queen Street\, Dawson City\, Yukon\, Y0B1G0\, Canada\n\nPhone: 867-993-5575\nView Web SiteJoin us for our annual Humane Society Dawson fundraiser!\n \nIt'll be a fantastic evening of support for our furry friends featuring music by Mike Erwood and Joey O'Neil\, a silent auction with great prizes\, a skill-testing quiz\, and our infamous "Dogball Highball"!\n \nAll funds raised will go to the Humane Society Dawson for food\, medical supplies\, and veterinary care.  Hope to see you there!
URL:https://dawsoncity.ca/event/humane-society-dawson-fundraiser/
LOCATION:Diamond Tooth Gerties Gambling Hall\, Corner of Fourth Avenue and Queen Street\, Dawson City\, Yukon\, Y0B1G0\, Canada
CATEGORIES:Arts and Culture,Entertainment-Nightlife,Gerties
ATTACH;FMTTYPE=image/jpeg:https://dawsoncity.ca/wp-content/uploads/2026/01/HSD-2.jpg
GEO:64.0614231;-139.4310005
X-APPLE-STRUCTURED-LOCATION;VALUE=URI;X-ADDRESS=Diamond Tooth Gerties Gambling Hall Corner of Fourth Avenue and Queen Street Dawson City Yukon Y0B1G0 Canada;X-APPLE-RADIUS=500;X-TITLE=Corner of Fourth Avenue and Queen Street:geo:-139.4310005,64.0614231
END:VEVENT
BEGIN:VEVENT
DTSTART;TZID=UTC:20251011T190000
DTEND;TZID=UTC:20251011T220000
DTSTAMP:20260421T200914
CREATED:20250903T192721Z
LAST-MODIFIED:20260316T121719Z
UID:10000341-1760209200-1760220000@dawsoncity.ca
SUMMARY:Major Funk's Disco Dance Party
DESCRIPTION:Diamond Tooth Gerties Gambling Hall\nEvent Details\n\nTime: April 21\, 2026 @ 8:09 pm – April 21\, 2026 @ 8:09 pm\n\nCost: \n\nVenue: Diamond Tooth Gerties Gambling Hall\n\nAddress: Corner of Fourth Avenue and Queen Street\, Dawson City\, Yukon\, Y0B1G0\, Canada\n\nPhone: 867-993-5575\nView Web Site\nDisco fever is back! Come dance the night away at the Disco Dance Party\, with the Major Funk Orchestra! \nThe Yukon’s long running dance party experts\, Major Funk\, have assembled an all-star team of musicians and dancers to bring you an unforgettable night of DISCO dance music. The “Major Funk Orchestra” features the Yukon’s favourite neighbourhood funk band\, Major Funk\, plus additional guest musicians and performers. With a full night of curated disco tunes\, choreographed dance performances\, costumes and decorations straight from the disco era\, the disco vibes and dance floor good times will be grooving all night long! \nDress to impress in your disco best! \nDoors Open at 7pm\, 8pm start \n$20 tickets at the door only
URL:https://dawsoncity.ca/event/disco-dance-party/
LOCATION:Diamond Tooth Gerties Gambling Hall\, Corner of Fourth Avenue and Queen Street\, Dawson City\, Yukon\, Y0B1G0\, Canada
CATEGORIES:Arts and Culture,Entertainment-Nightlife
ATTACH;FMTTYPE=image/jpeg:https://dawsoncity.ca/wp-content/uploads/2025/09/Disco-Dance-Party-SQ.jpg
ORGANIZER;CN="Diamond Tooth Gerties Gambling Hall":MAILTO:kva@dawson.net
GEO:64.0614231;-139.4310005
X-APPLE-STRUCTURED-LOCATION;VALUE=URI;X-ADDRESS=Diamond Tooth Gerties Gambling Hall Corner of Fourth Avenue and Queen Street Dawson City Yukon Y0B1G0 Canada;X-APPLE-RADIUS=500;X-TITLE=Corner of Fourth Avenue and Queen Street:geo:-139.4310005,64.0614231
END:VEVENT
BEGIN:VEVENT
DTSTART;TZID=America/Whitehorse:20250927T200000
DTEND;TZID=America/Whitehorse:20250927T230000
DTSTAMP:20260421T200914
CREATED:20230725T171004Z
LAST-MODIFIED:20260316T121613Z
UID:10000253-1759003200-1759014000@dawsoncity.ca
SUMMARY:CFYT Talent Night
DESCRIPTION:Diamond Tooth Gerties Gambling Hall\nEvent Details\n\nTime: April 21\, 2026 @ 8:09 pm – April 21\, 2026 @ 8:09 pm\n\nCost: \n\nVenue: Diamond Tooth Gerties Gambling Hall\n\nAddress: Corner of Fourth Avenue and Queen Street\, Dawson City\, Yukon\, Y0B1G0\, Canada\n\nPhone: 867-993-5575\nView Web SiteHave you been dying to share your talent with the town?CFYT invites all talents to the Diamond Tooth Gerties Stage. Whether you sing\, juggle\, jig\, capture caricatures\, create absurd balloon animals or perform incredible impersonations the CFYT Talent Show is the perfect place to premiere your talent. Performances are judged by an esteemed panel of Dawsonites. \nWhether you come to perform or come to cheer on your favorite acts\, your evening will be a fun-filled night. \nThis event is a fundraiser for CFYT Radio 106.9 FM\, The Spirit of Dawson.
URL:https://dawsoncity.ca/event/cfyt-talent-night/
LOCATION:Diamond Tooth Gerties Gambling Hall\, Corner of Fourth Avenue and Queen Street\, Dawson City\, Yukon\, Y0B1G0\, Canada
ATTACH;FMTTYPE=image/jpeg:https://dawsoncity.ca/wp-content/uploads/2023/07/Talent-Show-Square.jpg
GEO:64.0614231;-139.4310005
X-APPLE-STRUCTURED-LOCATION;VALUE=URI;X-ADDRESS=Diamond Tooth Gerties Gambling Hall Corner of Fourth Avenue and Queen Street Dawson City Yukon Y0B1G0 Canada;X-APPLE-RADIUS=500;X-TITLE=Corner of Fourth Avenue and Queen Street:geo:-139.4310005,64.0614231
END:VEVENT
BEGIN:VEVENT
DTSTART;TZID=America/Whitehorse:20250920T190000
DTEND;TZID=America/Whitehorse:20250921T010000
DTSTAMP:20260421T200914
CREATED:20230724T170516Z
LAST-MODIFIED:20260316T121612Z
UID:10000250-1758394800-1758416400@dawsoncity.ca
SUMMARY:Gerties Last Show
DESCRIPTION:Diamond Tooth Gerties Gambling Hall\nEvent Details\n\nTime: April 21\, 2026 @ 8:09 pm – April 21\, 2026 @ 8:09 pm\n\nCost: \n\nVenue: Diamond Tooth Gerties Gambling Hall\n\nAddress: Corner of Fourth Avenue and Queen Street\, Dawson City\, Yukon\, Y0B1G0\, Canada\n\nPhone: 867-993-5575\nView Web SiteJoin us for Diamond Tooth Gertie and the Gold Rush Girl's final show of the season!It is the end of another season under the midnight sun and we say our final hurrahs for the stupendous Diamond Tooth Gertie as she serenades and those ever-talented Gold Rush Girls give us one last high-kicking performance in a night you'll surely not forget! Sing and move along to your favourite tunes of the season and watch out for some new additional surprises. \nCelebrate this year's cast and crew's incredible talent in this fun-filled evening you surely will not forget! \n19 + (must have valid I.D.)
URL:https://dawsoncity.ca/event/gerties-last-show/
LOCATION:Diamond Tooth Gerties Gambling Hall\, Corner of Fourth Avenue and Queen Street\, Dawson City\, Yukon\, Y0B1G0\, Canada
CATEGORIES:Entertainment-Nightlife,Gerties
ATTACH;FMTTYPE=image/jpeg:https://dawsoncity.ca/wp-content/uploads/2023/07/DTG_Gerties-Last-Show_Square-Image.jpg
GEO:64.0614231;-139.4310005
X-APPLE-STRUCTURED-LOCATION;VALUE=URI;X-ADDRESS=Diamond Tooth Gerties Gambling Hall Corner of Fourth Avenue and Queen Street Dawson City Yukon Y0B1G0 Canada;X-APPLE-RADIUS=500;X-TITLE=Corner of Fourth Avenue and Queen Street:geo:-139.4310005,64.0614231
END:VEVENT
BEGIN:VEVENT
DTSTART;TZID=UTC:20250905T140000
DTEND;TZID=UTC:20250908T233000
DTSTAMP:20260421T200914
CREATED:20210826T185918Z
LAST-MODIFIED:20260316T121414Z
UID:10000157-1757080800-1757374200@dawsoncity.ca
SUMMARY:White Ram Poker Series
DESCRIPTION:Diamond Tooth Gerties Gambling Hall\nEvent Details\n\nTime: April 21\, 2026 @ 8:09 pm – April 21\, 2026 @ 8:09 pm\n\nCost: \n\nVenue: Diamond Tooth Gerties Gambling Hall\n\nAddress: Corner of Fourth Avenue and Queen Street\, Dawson City\, Yukon\, Y0B1G0\, Canada\n\nPhone: 867-993-5575\nWebsite \n\n\nFriday September 5thConklin Memorial Freeze Out NL Hold’em100 seats availableBuy-in – $500 + $50 (200BB)No re-entry or re-buyEstimated Prize Pool: $50\,000 \nSaturday September 6th & Sunday September 7th (two day event)The Ram No Limit Hold’em120 seats availableBuy-in – $400 + $60 (60BB) or purchase a double for $600 + 60 (120BB)Re-buys permitted – $200 for 3K in TCNo re-entry\, late entry permitted during re-buys if seats are available.Estimated prize pool: $105\,000 \nMonday September 8thThe Four Card Freeze Out NL OMAHA60 seats availableBuy-in $500 + $50Unlimited late and re-entry for 2 levelsEstimated Prize Pool: $30\,000 \nPre-registration opens August 7th at 9amSeat charge for each tournament due at time of registration\, remaining amount due on tournament day at Diamond Tooth Gerties.Registration is non-refundable and non-transferable.Must be 19 years of age or older – Valid photo ID required. \n\n\n\n 
URL:https://dawsoncity.ca/event/white-lamb-poker-tournament/
LOCATION:Diamond Tooth Gerties Gambling Hall\, Corner of Fourth Avenue and Queen Street\, Dawson City\, Yukon\, Y0B1G0\, Canada
CATEGORIES:Entertainment-Nightlife,Gerties
ATTACH;FMTTYPE=image/jpeg:https://dawsoncity.ca/wp-content/uploads/2021/08/DTG_WhiteRamPokerSeries_Feature-Square.jpg
ORGANIZER;CN="Diamond Tooth Gerties Gambling Hall":MAILTO:kva@dawson.net
GEO:64.0614231;-139.4310005
X-APPLE-STRUCTURED-LOCATION;VALUE=URI;X-ADDRESS=Diamond Tooth Gerties Gambling Hall Corner of Fourth Avenue and Queen Street Dawson City Yukon Y0B1G0 Canada;X-APPLE-RADIUS=500;X-TITLE=Corner of Fourth Avenue and Queen Street:geo:-139.4310005,64.0614231
END:VEVENT
BEGIN:VEVENT
DTSTART;TZID=America/Whitehorse:20241012T210000
DTEND;TZID=America/Whitehorse:20241013T010000
DTSTAMP:20260421T200914
CREATED:20241001T235731Z
LAST-MODIFIED:20260316T121656Z
UID:10000315-1728766800-1728781200@dawsoncity.ca
SUMMARY:Amy & Friends
DESCRIPTION:Diamond Tooth Gerties Gambling Hall\nEvent Details\n\nTime: April 21\, 2026 @ 8:09 pm – April 21\, 2026 @ 8:09 pm\n\nCost: \n\nVenue: Diamond Tooth Gerties Gambling Hall\n\nAddress: Corner of Fourth Avenue and Queen Street\, Dawson City\, Yukon\, Y0B1G0\, Canada\n\nPhone: 867-993-5575\nView Web SiteLive music with Amy & Friends!
URL:https://dawsoncity.ca/event/amyandfriends/
LOCATION:Diamond Tooth Gerties Gambling Hall\, Corner of Fourth Avenue and Queen Street\, Dawson City\, Yukon\, Y0B1G0\, Canada
CATEGORIES:Entertainment-Nightlife,Gerties
ATTACH;FMTTYPE=image/png:https://dawsoncity.ca/wp-content/uploads/2024/10/AmyFriends-3-small.png
GEO:64.0614231;-139.4310005
X-APPLE-STRUCTURED-LOCATION;VALUE=URI;X-ADDRESS=Diamond Tooth Gerties Gambling Hall Corner of Fourth Avenue and Queen Street Dawson City Yukon Y0B1G0 Canada;X-APPLE-RADIUS=500;X-TITLE=Corner of Fourth Avenue and Queen Street:geo:-139.4310005,64.0614231
END:VEVENT
BEGIN:VEVENT
DTSTART;TZID=America/Whitehorse:20241005T213000
DTEND;TZID=America/Whitehorse:20241006T010000
DTSTAMP:20260421T200914
CREATED:20241001T231225Z
LAST-MODIFIED:20260316T121655Z
UID:10000314-1728163800-1728176400@dawsoncity.ca
SUMMARY:Big Leisure
DESCRIPTION:Diamond Tooth Gerties Gambling Hall\nEvent Details\n\nTime: April 21\, 2026 @ 8:09 pm – April 21\, 2026 @ 8:09 pm\n\nCost: \n\nVenue: Diamond Tooth Gerties Gambling Hall\n\nAddress: Corner of Fourth Avenue and Queen Street\, Dawson City\, Yukon\, Y0B1G0\, Canada\n\nPhone: 867-993-5575\nView Web SiteGet ready to rock on October 5th with Big Leisure! Dive into an ultimate night of high-energy performances as this electrifying cover band brings your favorite rock anthems to life. From classic hits to modern favorites\, Big Leisure will have you singing and dancing all night long. Good time guaranteed. 
URL:https://dawsoncity.ca/event/bigleisure/
LOCATION:Diamond Tooth Gerties Gambling Hall\, Corner of Fourth Avenue and Queen Street\, Dawson City\, Yukon\, Y0B1G0\, Canada
CATEGORIES:Entertainment-Nightlife,Gerties
ATTACH;FMTTYPE=image/png:https://dawsoncity.ca/wp-content/uploads/2024/10/BigLeisure_Gerties-small-1.png
GEO:64.0614231;-139.4310005
X-APPLE-STRUCTURED-LOCATION;VALUE=URI;X-ADDRESS=Diamond Tooth Gerties Gambling Hall Corner of Fourth Avenue and Queen Street Dawson City Yukon Y0B1G0 Canada;X-APPLE-RADIUS=500;X-TITLE=Corner of Fourth Avenue and Queen Street:geo:-139.4310005,64.0614231
END:VEVENT
BEGIN:VEVENT
DTSTART;TZID=UTC:20240829T160000
DTEND;TZID=UTC:20240901T220000
DTSTAMP:20260421T200914
CREATED:20240828T185815Z
LAST-MODIFIED:20260316T121652Z
UID:10000312-1724947200-1725228000@dawsoncity.ca
SUMMARY:Labour Day Weekend Hold’em Tournaments
DESCRIPTION:Diamond Tooth Gerties Gambling Hall\nEvent Details\n\nTime: April 21\, 2026 @ 8:09 pm – April 21\, 2026 @ 8:09 pm\n\nCost: \n\nVenue: Diamond Tooth Gerties Gambling Hall\n\nAddress: Corner of Fourth Avenue and Queen Street\, Dawson City\, Yukon\, Y0B1G0\, Canada\n\nPhone: 867-993-5575\n \n\n\nOmaha too crazy for you?We are offering Texas Hold’em ONLY over Labor Day Weekend (Friday\, August 29th to Sunday\, September 1st)Come encourage our newest class of Poker dealers and hone your skills before our White Ram poker series!Tournaments Saturday and Sunday :$125+$25 buy-in $100 rebuys.Registration opens at 4:00 PM.Play starts at 4:25 PM.Max 30 playersCash games start as soon as we lose a tournament tableMinimum buy-in $20Maximum buy-in $300 \n\n\n 
URL:https://dawsoncity.ca/event/labour-day-weekend-holdem-tournaments/
LOCATION:Diamond Tooth Gerties Gambling Hall\, Corner of Fourth Avenue and Queen Street\, Dawson City\, Yukon\, Y0B1G0\, Canada
CATEGORIES:Entertainment-Nightlife,Gerties
ATTACH;FMTTYPE=image/png:https://dawsoncity.ca/wp-content/uploads/2024/08/LaborDayPoker-5-LaborDayPokersmall.png
ORGANIZER;CN="Diamond Tooth Gerties Gambling Hall":MAILTO:kva@dawson.net
GEO:64.0614231;-139.4310005
X-APPLE-STRUCTURED-LOCATION;VALUE=URI;X-ADDRESS=Diamond Tooth Gerties Gambling Hall Corner of Fourth Avenue and Queen Street Dawson City Yukon Y0B1G0 Canada;X-APPLE-RADIUS=500;X-TITLE=Corner of Fourth Avenue and Queen Street:geo:-139.4310005,64.0614231
END:VEVENT
BEGIN:VEVENT
DTSTART;TZID=UTC:20200305T130000
DTEND;TZID=UTC:20200308T090000
DTSTAMP:20260421T200914
CREATED:20180309T102048Z
LAST-MODIFIED:20260316T121342Z
UID:10000029-1583413200-1583658000@dawsoncity.ca
SUMMARY:Trek Over the Top
DESCRIPTION:Diamond Tooth Gerties Gambling Hall\nEvent Details\n\nTime: April 21\, 2026 @ 8:09 pm – April 21\, 2026 @ 8:09 pm\n\nCost: \n\nVenue: Diamond Tooth Gerties Gambling Hall\n\nAddress: Corner of Fourth Avenue and Queen Street\, Dawson City\, Yukon\, Y0B1G0\, Canada\n\nPhone: 867-993-5575\nView Web Site\nTrek over the Top is an international snowmobile run from Tok\, Alaska to Dawson City\, Yukon. Riders travel over 200 miles of groomed trail through pristine wilderness to arrive in Dawson City for one heck of a weekend! \nOnce in Dawson\, Trekkers have no shortage of entertainment: \n\nPlay at Diamond Tooth Gerties Gambling Hall\, Canada's oldest casino: Texas Hold'em\, Black Jack\, Roulette\, and Slots\nJoin a local poker run in the Klondike\nBecome a member of Dawson City's infamous Sour Toe Cocktail Club\nPARTY IN THE VEGAS OF THE NORTH! Have a cocktail at a former brothel or an old time saloon. 5 bars all within 3 blocks!\n\nIncluded in the Trek package: \n\nSteak dinner banquet\nNightly entertainment\nGasoline fill-up at the halfway point in Chicken\, AK\n200 Miles of groomed Trail\n2026 Trek Over the Top t-shirt\nPoker hand for the run with a chance to win CASH!\nThe most fun you'll have all year!\n\nJoin in for the fun! \nTo find out more or get answers to any questions you may have call the KVA at 867-993-5575 (or toll free at: 1-877-465-3006) or email us: kva@dawson.net \nCUSTOMS/BORDER INFORMATION
URL:https://dawsoncity.ca/event/trek-over-the-top/
LOCATION:Diamond Tooth Gerties Gambling Hall\, Corner of Fourth Avenue and Queen Street\, Dawson City\, Yukon\, Y0B1G0\, Canada
CATEGORIES:Entertainment-Nightlife,Gerties,Recreation,Wilderness
ATTACH;FMTTYPE=image/jpeg:https://dawsoncity.ca/wp-content/uploads/2014/06/Trek-resized.jpg
ORGANIZER;CN="Klondike Visitors Association":MAILTO:kva@dawson.net
GEO:64.0614231;-139.4310005
X-APPLE-STRUCTURED-LOCATION;VALUE=URI;X-ADDRESS=Diamond Tooth Gerties Gambling Hall Corner of Fourth Avenue and Queen Street Dawson City Yukon Y0B1G0 Canada;X-APPLE-RADIUS=500;X-TITLE=Corner of Fourth Avenue and Queen Street:geo:-139.4310005,64.0614231
END:VEVENT
END:VCALENDAR