BEGIN:VCALENDAR
VERSION:2.0
PRODID:-//Dawson City Yukon - ECPv6.15.20//NONSGML v1.0//EN
CALSCALE:GREGORIAN
METHOD:PUBLISH
X-WR-CALNAME:Dawson City Yukon
X-ORIGINAL-URL:https://dawsoncity.ca
X-WR-CALDESC:Events for Dawson City Yukon
REFRESH-INTERVAL;VALUE=DURATION:PT1H
X-Robots-Tag:noindex
X-PUBLISHED-TTL:PT1H
BEGIN:VTIMEZONE
TZID:UTC
BEGIN:STANDARD
TZOFFSETFROM:+0000
TZOFFSETTO:+0000
TZNAME:UTC
DTSTART:20230101T000000
END:STANDARD
END:VTIMEZONE
BEGIN:VEVENT
DTSTART;TZID=UTC:20240830T120000
DTEND;TZID=UTC:20240830T130000
DTSTAMP:20260420T020229
CREATED:20240531T194749Z
LAST-MODIFIED:20260316T121644Z
UID:10000301-1725019200-1725022800@dawsoncity.ca
SUMMARY:Summer Concert Series - Joey O'Neil
DESCRIPTION:Gazebo\nEvent Details\n\nTime: April 20\, 2026 @ 2:02 am – April 20\, 2026 @ 2:02 am\n\nCost: \n\nVenue: Gazebo\n\nAddress: Front Street\, Dawson City\, Yukon\, Y0B1G0\, Canada\n\nPhone: \nView Web SiteThe Dawson City Summer Concert Series is a free lunch-time music series that takes places each Friday from 12:00-1:00pm\, at the gazebo on the Dawson City Waterfront. Can’t make it in person? Tune into CFYT 106.9FM in Dawson City\, or at CFYT.ca anywhere in the world. \nCome out and enjoy the music all summer long in beautiful Dawson City! \nJune 7 - Chris Bourque\nJune 14 - Woah\, Bear!\nJune 21 -  Boyd Benjamin & Kevin Barr * Takes place at Dänojà Zho Cultural Centre\nJune 28 - Cryptozoologists  *Takes place at Dawson City Music Fest backyard\nJuly 5  - Kim Beggs\nJuly 12  - Ska Party!\nAugust 2 -  Keziah\nAugust 9 - Pat LePoidevin\nAugust 16 - Ellorie McKnight\nAugust 23  - Driftwood Holly\nAugust 30 -  Joey O'Neil \nDowntown Hotel
URL:https://dawsoncity.ca/event/summer-concert-series-joey-oneil/
LOCATION:Gazebo\, Front Street\, Dawson City\, Yukon\, Y0B1G0\, Canada
CATEGORIES:Arts and Culture,Family Friendly Event,Free Event
ATTACH;FMTTYPE=image/png:https://dawsoncity.ca/wp-content/uploads/2024/05/joey_small.png
ORGANIZER;CN="Klondike Visitors Association":MAILTO:kva@dawson.net
END:VEVENT
BEGIN:VEVENT
DTSTART;TZID=UTC:20240824T120000
DTEND;TZID=UTC:20240824T130000
DTSTAMP:20260420T020229
CREATED:20240531T191734Z
LAST-MODIFIED:20260316T121631Z
UID:10000291-1724500800-1724504400@dawsoncity.ca
SUMMARY:Summer Concert Series - Cryptozoologists
DESCRIPTION:Gazebo\nEvent Details\n\nTime: April 20\, 2026 @ 2:02 am – April 20\, 2026 @ 2:02 am\n\nCost: \n\nVenue: Gazebo\n\nAddress: Front Street\, Dawson City\, Yukon\, Y0B1G0\, Canada\n\nPhone: \nView Web SiteThe Dawson City Summer Concert Series is a free lunch-time music series that takes places each Friday from 12:00-1:00pm\, at the gazebo on the Dawson City Waterfront. Can’t make it in person? Tune into CFYT 106.9FM in Dawson City\, or at CFYT.ca anywhere in the world. \nCome out and enjoy the music all summer long in beautiful Dawson City! \nJune 7 - Chris BourqueJune 14 - Woah\, Bear!June 21 -  Boyd Benjamin & Kevin Barr * Takes place at Dänojà Zho Cultural CentreJuly 5  - Kim BeggsJuly 12  - Ska Party!August 2 -  KeziahAugust 9 - Pat LePoidevinAugust 16 - Ellorie McKnightAugust 23  - Driftwood HollyAugust 24 - CyptozoologistsAugust 30 -  Joey O'Neil \nDowntown Hotel
URL:https://dawsoncity.ca/event/summer-concert-series-cryptozoologists/
LOCATION:Gazebo\, Front Street\, Dawson City\, Yukon\, Y0B1G0\, Canada
CATEGORIES:Arts and Culture,Family Friendly Event,Free Event
ATTACH;FMTTYPE=image/png:https://dawsoncity.ca/wp-content/uploads/2024/05/crypto_small.png
ORGANIZER;CN="Klondike Visitors Association":MAILTO:kva@dawson.net
END:VEVENT
BEGIN:VEVENT
DTSTART;TZID=UTC:20240823T120000
DTEND;TZID=UTC:20240823T130000
DTSTAMP:20260420T020229
CREATED:20240531T194411Z
LAST-MODIFIED:20260316T121643Z
UID:10000299-1724414400-1724418000@dawsoncity.ca
SUMMARY:Summer Concert Series - Driftwood Holly
DESCRIPTION:Gazebo\nEvent Details\n\nTime: April 20\, 2026 @ 2:02 am – April 20\, 2026 @ 2:02 am\n\nCost: \n\nVenue: Gazebo\n\nAddress: Front Street\, Dawson City\, Yukon\, Y0B1G0\, Canada\n\nPhone: \nView Web SiteThe Dawson City Summer Concert Series is a free lunch-time music series that takes places each Friday from 12:00-1:00pm\, at the gazebo on the Dawson City Waterfront. Can’t make it in person? Tune into CFYT 106.9FM in Dawson City\, or at CFYT.ca anywhere in the world. \nCome out and enjoy the music all summer long in beautiful Dawson City! \nJune 7 - Chris Bourque\nJune 14 - Woah\, Bear!\nJune 21 -  Boyd Benjamin & Kevin Barr * Takes place at Dänojà Zho Cultural Centre\nJune 28 - Cryptozoologists  *Takes place at Dawson City Music Fest backyard\nJuly 5  - Kim Beggs\nJuly 12  - Ska Party!\nAugust 2 -  Keziah\nAugust 9 - Pat LePoidevin\nAugust 16 - Ellorie McKnight\nAugust 23  - Driftwood Holly\nAugust 30 -  Joey O'Neil \nDowntown Hotel
URL:https://dawsoncity.ca/event/summer-concert-series-driftwood-holly/
LOCATION:Gazebo\, Front Street\, Dawson City\, Yukon\, Y0B1G0\, Canada
CATEGORIES:Arts and Culture,Family Friendly Event,Free Event
ATTACH;FMTTYPE=image/png:https://dawsoncity.ca/wp-content/uploads/2024/05/driftholly_small.png
ORGANIZER;CN="Klondike Visitors Association":MAILTO:kva@dawson.net
END:VEVENT
BEGIN:VEVENT
DTSTART;TZID=UTC:20240816T120000
DTEND;TZID=UTC:20240816T130000
DTSTAMP:20260420T020229
CREATED:20240531T193850Z
LAST-MODIFIED:20260316T121637Z
UID:10000298-1723809600-1723813200@dawsoncity.ca
SUMMARY:Summer Concert Series - Ellorie McKnight
DESCRIPTION:Gazebo\nEvent Details\n\nTime: April 20\, 2026 @ 2:02 am – April 20\, 2026 @ 2:02 am\n\nCost: \n\nVenue: Gazebo\n\nAddress: Front Street\, Dawson City\, Yukon\, Y0B1G0\, Canada\n\nPhone: \nView Web SiteThe Dawson City Summer Concert Series is a free lunch-time music series that takes places each Friday from 12:00-1:00pm\, at the gazebo on the Dawson City Waterfront. Can’t make it in person? Tune into CFYT 106.9FM in Dawson City\, or at CFYT.ca anywhere in the world. \nCome out and enjoy the music all summer long in beautiful Dawson City! \nJune 7 - Chris Bourque\nJune 14 - Woah\, Bear!\nJune 21 -  Boyd Benjamin & Kevin Barr * Takes place at Dänojà Zho Cultural Centre\nJune 28 - Cryptozoologists  *Takes place at Dawson City Music Fest backyard\nJuly 5  - Kim Beggs\nJuly 12  - Ska Party!\nAugust 2 -  Keziah\nAugust 9 - Pat LePoidevin\nAugust 16 - Ellorie McKnight\nAugust 23  - Driftwood Holly\nAugust 30 -  Joey O'Neil \nDowntown Hotel
URL:https://dawsoncity.ca/event/summer-concert-series-ellorie-mcknight/
LOCATION:Gazebo\, Front Street\, Dawson City\, Yukon\, Y0B1G0\, Canada
CATEGORIES:Arts and Culture,Family Friendly Event,Free Event
ATTACH;FMTTYPE=image/png:https://dawsoncity.ca/wp-content/uploads/2024/05/ellorie_small.png
ORGANIZER;CN="Klondike Visitors Association":MAILTO:kva@dawson.net
END:VEVENT
BEGIN:VEVENT
DTSTART;TZID=UTC:20240809T120000
DTEND;TZID=UTC:20240809T130000
DTSTAMP:20260420T020229
CREATED:20240531T192947Z
LAST-MODIFIED:20260316T121636Z
UID:10000296-1723204800-1723208400@dawsoncity.ca
SUMMARY:Summer Concert Series - Pat LePoidevin
DESCRIPTION:Gazebo\nEvent Details\n\nTime: April 20\, 2026 @ 2:02 am – April 20\, 2026 @ 2:02 am\n\nCost: \n\nVenue: Gazebo\n\nAddress: Front Street\, Dawson City\, Yukon\, Y0B1G0\, Canada\n\nPhone: \nView Web SiteThe Dawson City Summer Concert Series is a free lunch-time music series that takes places each Friday from 12:00-1:00pm\, at the gazebo on the Dawson City Waterfront. Can’t make it in person? Tune into CFYT 106.9FM in Dawson City\, or at CFYT.ca anywhere in the world. \nCome out and enjoy the music all summer long in beautiful Dawson City! \nJune 7 - Chris Bourque\nJune 14 - Woah\, Bear!\nJune 21 -  Boyd Benjamin & Kevin Barr * Takes place at Dänojà Zho Cultural Centre\nJune 28 - Cryptozoologists  *Takes place at Dawson City Music Fest backyard\nJuly 5  - Kim Beggs\nJuly 12  - Ska Party!\nAugust 2 -  Keziah\nAugust 9 - Pat LePoidevin\nAugust 16 - Ellorie McKnight\nAugust 23  - Driftwood Holly\nAugust 30 -  Joey O'Neil \nDowntown Hotel
URL:https://dawsoncity.ca/event/summer-concert-series-pat-lepoidevin/
LOCATION:Gazebo\, Front Street\, Dawson City\, Yukon\, Y0B1G0\, Canada
CATEGORIES:Arts and Culture,Family Friendly Event,Free Event
ATTACH;FMTTYPE=image/png:https://dawsoncity.ca/wp-content/uploads/2024/05/pat_small.png
ORGANIZER;CN="Klondike Visitors Association":MAILTO:kva@dawson.net
END:VEVENT
BEGIN:VEVENT
DTSTART;TZID=UTC:20240802T120000
DTEND;TZID=UTC:20240802T130000
DTSTAMP:20260420T020229
CREATED:20240531T192732Z
LAST-MODIFIED:20260316T121635Z
UID:10000295-1722600000-1722603600@dawsoncity.ca
SUMMARY:Summer Concert Series - Keziah
DESCRIPTION:Gazebo\nEvent Details\n\nTime: April 20\, 2026 @ 2:02 am – April 20\, 2026 @ 2:02 am\n\nCost: \n\nVenue: Gazebo\n\nAddress: Front Street\, Dawson City\, Yukon\, Y0B1G0\, Canada\n\nPhone: \nView Web SiteThe Dawson City Summer Concert Series is a free lunch-time music series that takes places each Friday from 12:00-1:00pm\, at the gazebo on the Dawson City Waterfront. Can’t make it in person? Tune into CFYT 106.9FM in Dawson City\, or at CFYT.ca anywhere in the world. \nCome out and enjoy the music all summer long in beautiful Dawson City! \nJune 7 - Chris Bourque\nJune 14 - Woah\, Bear!\nJune 21 -  Boyd Benjamin & Kevin Barr * Takes place at Dänojà Zho Cultural Centre\nJune 28 - Cryptozoologists  *Takes place at Dawson City Music Fest backyard\nJuly 5  - Kim Beggs\nJuly 12  - Ska Party!\nAugust 2 -  Keziah\nAugust 9 - Pat LePoidevin\nAugust 16 - Ellorie McKnight\nAugust 23  - Driftwood Holly\nAugust 30 -  Joey O'Neil \nDowntown Hotel
URL:https://dawsoncity.ca/event/summer-concert-series-keziah/
LOCATION:Gazebo\, Front Street\, Dawson City\, Yukon\, Y0B1G0\, Canada
CATEGORIES:Arts and Culture,Family Friendly Event,Free Event
ATTACH;FMTTYPE=image/jpeg:https://dawsoncity.ca/wp-content/uploads/2024/05/SCS_Square-Logo-SM.jpg
ORGANIZER;CN="Klondike Visitors Association":MAILTO:kva@dawson.net
END:VEVENT
BEGIN:VEVENT
DTSTART;TZID=UTC:20240712T120000
DTEND;TZID=UTC:20240712T130000
DTSTAMP:20260420T020229
CREATED:20240531T192013Z
LAST-MODIFIED:20260316T121632Z
UID:10000292-1720785600-1720789200@dawsoncity.ca
SUMMARY:Summer Concert Series - Ska Party!
DESCRIPTION:Gazebo\nEvent Details\n\nTime: April 20\, 2026 @ 2:02 am – April 20\, 2026 @ 2:02 am\n\nCost: \n\nVenue: Gazebo\n\nAddress: Front Street\, Dawson City\, Yukon\, Y0B1G0\, Canada\n\nPhone: \nView Web SiteThe Dawson City Summer Concert Series is a free lunch-time music series that takes places each Friday from 12:00-1:00pm\, at the gazebo on the Dawson City Waterfront. Can’t make it in person? Tune into CFYT 106.9FM in Dawson City\, or at CFYT.ca anywhere in the world. \nCome out and enjoy the music all summer long in beautiful Dawson City! \nJune 7 - Chris Bourque\nJune 14 - Woah\, Bear!\nJune 21 -  Boyd Benjamin & Kevin Barr * Takes place at Dänojà Zho Cultural Centre\nJune 28 - Cryptozoologists  *Takes place at Dawson City Music Fest backyard\nJuly 5  - Kim Beggs\nJuly 12  - Ska Party!\nAugust 2 -  Keziah\nAugust 9 - Pat LePoidevin\nAugust 16 - Ellorie McKnight\nAugust 23  - Driftwood Holly\nAugust 30 -  Joey O'Neil \nDowntown Hotel
URL:https://dawsoncity.ca/event/summer-concert-series-skaparty/
LOCATION:Gazebo\, Front Street\, Dawson City\, Yukon\, Y0B1G0\, Canada
CATEGORIES:Arts and Culture,Family Friendly Event,Free Event
ATTACH;FMTTYPE=image/jpeg:https://dawsoncity.ca/wp-content/uploads/2024/05/SCS_Square-Logo-SM.jpg
ORGANIZER;CN="Klondike Visitors Association":MAILTO:kva@dawson.net
END:VEVENT
BEGIN:VEVENT
DTSTART;TZID=UTC:20240705T120000
DTEND;TZID=UTC:20240705T130000
DTSTAMP:20260420T020229
CREATED:20240531T192513Z
LAST-MODIFIED:20260316T121633Z
UID:10000294-1720180800-1720184400@dawsoncity.ca
SUMMARY:Summer Concert Series - Kim Beggs
DESCRIPTION:Gazebo\nEvent Details\n\nTime: April 20\, 2026 @ 2:02 am – April 20\, 2026 @ 2:02 am\n\nCost: \n\nVenue: Gazebo\n\nAddress: Front Street\, Dawson City\, Yukon\, Y0B1G0\, Canada\n\nPhone: \nView Web SiteThe Dawson City Summer Concert Series is a free lunch-time music series that takes places each Friday from 12:00-1:00pm\, at the gazebo on the Dawson City Waterfront. Can’t make it in person? Tune into CFYT 106.9FM in Dawson City\, or at CFYT.ca anywhere in the world. \nCome out and enjoy the music all summer long in beautiful Dawson City! \nJune 7 - Chris Bourque\nJune 14 - Woah\, Bear!\nJune 21 -  Boyd Benjamin & Kevin Barr * Takes place at Dänojà Zho Cultural Centre\nJune 28 - Cryptozoologists  *Takes place at Dawson City Music Fest backyard\nJuly 5  - Kim Beggs\nJuly 12  - Ska Party!\nAugust 2 -  Keziah\nAugust 9 - Pat LePoidevin\nAugust 16 - Ellorie McKnight\nAugust 23  - Driftwood Holly\nAugust 30 -  Joey O'Neil \nDowntown Hotel
URL:https://dawsoncity.ca/event/summer-concert-series-kim-beggs-2/
LOCATION:Gazebo\, Front Street\, Dawson City\, Yukon\, Y0B1G0\, Canada
CATEGORIES:Arts and Culture,Family Friendly Event,Free Event
ATTACH;FMTTYPE=image/jpeg:https://dawsoncity.ca/wp-content/uploads/2024/05/KimBeggs-1.jpg
ORGANIZER;CN="Klondike Visitors Association":MAILTO:kva@dawson.net
END:VEVENT
BEGIN:VEVENT
DTSTART;TZID=UTC:20240614T120000
DTEND;TZID=UTC:20240614T130000
DTSTAMP:20260420T020229
CREATED:20240531T185920Z
LAST-MODIFIED:20260316T121629Z
UID:10000290-1718366400-1718370000@dawsoncity.ca
SUMMARY:Summer Concert Series - Woah\, Bear!
DESCRIPTION:Gazebo\nEvent Details\n\nTime: April 20\, 2026 @ 2:02 am – April 20\, 2026 @ 2:02 am\n\nCost: \n\nVenue: Gazebo\n\nAddress: Front Street\, Dawson City\, Yukon\, Y0B1G0\, Canada\n\nPhone: \nView Web SiteThe Dawson City Summer Concert Series is a free lunch-time music series that takes places each Friday from 12:00-1:00pm\, at the gazebo on the Dawson City Waterfront. Can’t make it in person? Tune into CFYT 106.9FM in Dawson City\, or at CFYT.ca anywhere in the world. \nCome out and enjoy the music all summer long in beautiful Dawson City! \nJune 7 - Chris Bourque\nJune 14 - Woah\, Bear!\nJune 21 -  Boyd Benjamin & Kevin Barr * Takes place at Dänojà Zho Cultural Centre\nJune 28 - Cryptozoologists  *Takes place at Dawson City Music Fest backyard\nJuly 5  - Kim Beggs\nJuly 12  - Ska Party!\nAugust 2 -  Keziah\nAugust 9 - Pat LePoidevin\nAugust 16 - Ellorie McKnight\nAugust 23  - Driftwood Holly\nAugust 30 -  Joey O'Neil \nDowntown Hotel
URL:https://dawsoncity.ca/event/summer-concert-series-woah-bear-2/
LOCATION:Gazebo\, Front Street\, Dawson City\, Yukon\, Y0B1G0\, Canada
CATEGORIES:Arts and Culture,Family Friendly Event,Free Event
ATTACH;FMTTYPE=image/jpeg:https://dawsoncity.ca/wp-content/uploads/2024/05/SCS_Square-Logo-SM.jpg
ORGANIZER;CN="Klondike Visitors Association":MAILTO:kva@dawson.net
END:VEVENT
BEGIN:VEVENT
DTSTART;TZID=UTC:20240607T120000
DTEND;TZID=UTC:20240607T130000
DTSTAMP:20260420T020230
CREATED:20240531T194943Z
LAST-MODIFIED:20260316T121646Z
UID:10000275-1717761600-1717765200@dawsoncity.ca
SUMMARY:Summer Concert Series - Chris Bourque
DESCRIPTION:Gazebo\nEvent Details\n\nTime: April 20\, 2026 @ 2:02 am – April 20\, 2026 @ 2:02 am\n\nCost: \n\nVenue: Gazebo\n\nAddress: Front Street\, Dawson City\, Yukon\, Y0B1G0\, Canada\n\nPhone: \nView Web SiteThe Dawson City Summer Concert Series is a free lunch-time music series that takes places each Friday from 12:00-1:00pm\, at the gazebo on the Dawson City Waterfront. Can’t make it in person? Tune into CFYT 106.9FM in Dawson City\, or at CFYT.ca anywhere in the world. \nCome out and enjoy the music all summer long in beautiful Dawson City! \nJune 7 - Chris BourqueJune 14 - Woah\, Bear!June 21 -  Boyd Benjamin & Kevin Barr * Takes place at Dänojà Zho Cultural CentreJune 28 - Cryptozoologists  *Takes place at Dawson City Music Fest backyardJuly 5  - Kim BeggsJuly 12  - Ska Party!August 2 -  KeziahAugust 9 - Pat LePoidevinAugust 16 - Ellorie McKnightAugust 23  - Driftwood HollyAugust 30 -  Joey O'Neil \nDowntown Hotel
URL:https://dawsoncity.ca/event/summer-concert-series-2/
LOCATION:Gazebo\, Front Street\, Dawson City\, Yukon\, Y0B1G0\, Canada
CATEGORIES:Arts and Culture,Family Friendly Event,Free Event
ATTACH;FMTTYPE=image/jpeg:https://dawsoncity.ca/wp-content/uploads/2024/05/SCS_Square-Logo-SM.jpg
ORGANIZER;CN="Klondike Visitors Association":MAILTO:kva@dawson.net
END:VEVENT
END:VCALENDAR